Workbook

Sheet Intructivo  
B2: Matriz Mapa de Riesgos
B4: Teniendo en cuenta que con la expedición del Decreto 1499 de 2017 “Por medio del cual se modifica el Decreto 1083 de 2015, Decreto Único Reglamentario del Sector Función Pública, en lo relacionado con el Sistema de Gestión establecido en el artículo 133 de la Ley 1753 de 2015”, se crea un solo Sistema de Gestión y se alinea con el Sistema de Control Interno, hoy todas las entidades públicas requieren actualizar y/o implementar el Modelo Integrado de Planeación y Gestión MIPG, modelo que incorpora el Modelo Estándar de Control Interno MECI a través de la 7a dimensión del mismo. En este marco general, el proceso de administración del riesgo es un esfuerzo conjunto entre la Alta Dirección y los servidores en todos sus niveles, ejercicio que inicia con la formulación de la política de Administración del Riesgo, la cual incluye los niveles de responsabilidad frente al seguimiento y evaluación, aspectos que deberán definirse acorde con el Esquema de Líneas de Defensa vinculado a la Dimensión 7. Teniendo en cuenta lo anterior y dada la necesidad de las entidades frente a la estructuración de los mapas de riesgos, como herramienta fundamental frente a la gestión del riesgo, el presente formato desarrolla un esquema completo acorde con los contenidos metodológicos de la Guía para la Administración del Riesgo y el diseño de controles V6. El formato cuenta con celdas parametrizadas y permite contar con los respectivos mapas de calor para riesgo inherente y riesgo residual.
B6: Orientaciones Generales
B7: Antes de iniciar con el diligenciamiento de la información en la matriz, se requiere haber avanzado en el análisis del proceso, su objetivo, alcance, actividades clave, considere los lineamientos establecidos en el Paso 2: identificación del riesgo, donde se explica ampliamente las bases para adelanter este análisis. Así mismo, considere en el Paso 3: valoración del riesgo los lineamientos para definir el No. de veces que se hace la actividad con la cual se relaciona el riesgo y su impacto en términos económicos o reputacionales. En este mismo paso se analizan los controles que deben responder a los atributos de eficiencia e informativos. NOTA: Si lo considera pertinente, es posible agregar hojas de trabajo adicionales al presente formato que permitan incluir la traza de estos análisis.
B9: El archivo contiene las siguientes hojas: - Hoja 1 Instructivo - Hoja 2 Contexto: Diligenciar formato Contexto Extratégico -E-PI-MT01-F03 FORMATO MATRIZ DOFA
C13: Columna | E13: Descripción - Lineamientos para el diligenciamiento
C14: Fecha de elaboración | E14: Diligencie la fecha de elaboración de la matriz DOFA
C15: Proceso | E15: Diligencie el nombre del proceso al cual se le identificarán y valorarán los riesgos.
C16: Lider de Proceso | E16: Diligencia el nombre del lider o encargado del proceso
B18: - Hoja 3 Mapa de Riesgos Final: Encontrará la totalidad de la estructura para la identificación y valoración de los riesgos por proceso, acorde con el nivel de desagregación que la entidad considere necesaria.
C19: Columna | E19: Descripción - Lineamientos para el diligenciamiento
C20: Proceso | E20: Diligencie el nombre del proceso al cual se le identificarán y valorarán los riesgos.
C21: Objetivo | E21: Diligencie el objetivo del proceso.
C22: Alcance | E22: Diligencie el alcance del proceso.
C23: Referencia | E23: Permite definir unl consecutivo de riesgos. Una entidad puede ir en el riesgo 150, pero tener 70 riesgos, lo que permite llevar una trazabilidad de los riesgos. Esta información la debe administrar la oficina asesora de planeación o gerencia de riesgos. Cuando un el riesgo salga del mapa no existirá otro riesgo con el mismo número.
C24: Impacto | E24: Analice las consecuencias que puede ocasionar a la organización la materialización del riesgo, redacte de la forma más concreta posible.
C25: Clase de Riesgo | E25: Utilice la lista de despligue que se encuentra parametrizada, le aparecerán las opciones:Riesgos de Gestión; Riesgos de Corrupción; Riesgos de Seguridad de la Información
C26: Causa Raíz | E26: Causa principal o básica, corresponde a las razones por la cuales se puede presentar el riesgo, redacte de la forma más concreta posible.
C27: Descripción del Riesgo | E27: Consolida o resume los análisis sobre impacto + causa inmediata + causa raíz, permitiendo contar con una redacción clara y concreta del riesgo indentificado. Tenga en cuenta la estructura de alto nivel establecida en al guía, inicia con POSIBILIDAD DE + Impacto para la entidad (Qué) + Causa Inmediata (Cómo) + Causa Raíz (Por qué)
C28: Clasificación del Riesgo | E28: Utilice la lista de despligue que se encuentra parametrizada, le aparecerán las opciones: i)Daños Activos Fisicos, ii)Ejecucion y Administracion de procesos, iii)Fallas Tecnologicas, iv)Fraude Externo, v)Fraude Interno, vi)Relaciones Laborales, vii)Usuarios, productos y practicas organizacionales.
C29: Frecuencia con la cual se lleva a cabo la actividad | E29: Defina el # de veces que se ejecuta la actividad durante el año, (Recuerde la probabilidad e ocurrencia del riesgo se defien como el No. de veces que se pasa por el punto de riesgo en el periodo de 1 año). La matriz automáticamente hará el cálculo para el nivel de probabilidad inherente (Columnas H-I)
C30: Criterios de Impacto | E30: Utilice la lista de despligue que se encuentra parametrizada, le aparecerán las opciones de la tabla de Impacto en la Hoja 6 del presente documento. La matriz automáticamente hará el cálculo para el nivel de impacto inherente (Columnas L-M)
... C44: Estado | E44: Utilice la lista de despligue que se encuentra parametrizada, le aparecerán las opciones: i)Finalizado, ii)En curso, la selección en este caso dependerá de las acciones del plan que se hayan establecido en cada caso.
B48: - Hoja 4 Matriz de Calor Inherente: En esta hoja, en la medida en que ese diligencia el Mapa Final, se verán reflejados los riesgos en su zona correspondiente. Esta hoja no se diligencia se genera de manera automática.
B49: - Hoja 5 Matriz de Calor Residual: En esta hoja, en la medida en que ese diligencia el Mapa Final, se verán reflejados los riesgos en su zona correspondiente. Esta hoja no se diligencia se genera de manera automática.
B50: - Hoja 6 Tabla de probabilidad: Tabla referente para todos los cálculos (no se diligencia)
B51: - Hoja 7 Tabla de Impacto: Tabla referente para todos los cálculos (no se diligencia)
B52: - Hoja 8 Tabla de Valoración de Controles: Tabla referente para todos los cálculos (no se diligencia)

Sheet Mapa de Riesgos
D1: Matriz Mapa Riesgos Seguridad de la Información 2026 | AC1: Código: E-PI-MT-04
AC2: Versión: 04
AC3: Fecha : 15-04-2024
A4: Identificación del riesgo | H4: Análisis del riesgo inherente | O4: Evaluación del riesgo - Valoración de los controles | Q4: Plan de Acción | W4: Monitoreo: Primer Cuatrimestre- 2a Línea de defensa (Planeación) | Y4: Monitoreo: Segundo Cuatrimestre- 2a Línea de defensa (Planeación) | AA4: Monitoreo: Tercer Cuatrimestre- 2a Línea de defensa (Planeación) | AC4: Supervisión : Primer Cuatrimestre- 3a Línea de defensa (Jefe de Control Interno )
A5: Referencia | B5: Proceso | C5: Impacto | D5: Causa Raíz | E5: Descripción del Riesgo | F5: Clasificación del Riesgo | G5: Frecuencia con la cual se realiza la actividad | H5: Probabilidad Inherente | I5: % | J5: Criterios de impacto | K5: Observación de criterio | L5: Impacto Inherente | M5: % | N5: Zona de Riesgo Inherente | O5: No. Control | P5: Descripción del Control | Q5: Plan de Acción | R5: Responsable | S5: Fecha de inicio | T5: Fecha de terminación | U5: Fecha Seguimiento | V5: Estado | W5: Acciones que se realizaron | X5: Evidencia | Y5: Acciones que se realizaron | Z5: Evidencia | AA5: Acciones que se realizaron | AB5: Evidencia | AC5: Supervisión de las acciones | AD5: Porcentaje de cumplimiento
A7: 1 | B7: Gestión Planeación Institucional | C7: Económico | D7: Falta de espacio de almacenamiento en la nube de los correos institucionales. | E7: Posibilidad de pérdida de la información generada por del área Planeación Institucional y Proyectos | F7: Fallas Tecnológicas | G7: 24 | H7: =IF(G7<=0,"",IF(G7<=2,"Muy Baja",IF(G7<=24,"Baja",IF(G7<=500,"Media",IF(G7<=5000,"Alta","Muy Alta"))))) -> Baja | I7: =IF(H7="","",IF(H7="Muy Baja",0.2,IF(H7="Baja",0.4,IF(H7="Media",0.6,IF(H7="Alta",0.8,IF(H7="Muy Alta",1,)))))) -> 0.4 | J7: Entre 100 y 500 SMLMV | K7: =IF(NOT(ISERROR(MATCH(J7,'[1]Tabla Impacto'!$B$221:$B$223,0))),'[1]Tabla Impacto'!$F$223&"Por favor no seleccionar los criterios de impacto(Afectación Económica o presupuestal y Pérdida Reputacional)",J7) -> Entre 100 y 500 SMLMV | L7: =IF(OR(K7='[1]Tabla Impacto'!$C$11,K7='[1]Tabla Impacto'!$D$11),"Leve",IF(OR(K7='[1]Tabla Impacto'!$C$12,K7='[1]Tabla Impacto'!$D$12),"Menor",IF(OR(K7='[1]Tabla Impacto'!$C$13,K7='[1]Tabla Impacto'!$D$13),"Moderado",IF(OR(K7='[1]Tabla Impacto'!$C$14,K7='[1]Tabla Impacto'!$D$14),"Mayor",IF(OR(K7='[1]Tabla Impacto'!$C$15,K7='[1]Tabla Impacto'!$D$15),"Catastrófico",""))))) -> Mayor | M7: =IF(L7="","",IF(L7="Leve",0.2,IF(L7="Menor",0.4,IF(L7="Moderado",0.6,IF(L7="Mayor",0.8,IF(L7="Catastrófico",1,)))))) -> 0.8 | N7: =IF(OR(AND(H7="Muy Baja",L7="Leve"),AND(H7="Muy Baja",L7="Menor"),AND(H7="Baja",L7="Leve")),"Bajo",IF(OR(AND(H7="Muy baja",L7="Moderado"),AND(H7="Baja",L7="Menor"),AND(H7="Baja",L7="Moderado"),AND(H7="Media",L7="Leve"),AND(H7="Media",L7="Menor"),AND(H7="Media",L7="Moderado"),AND(H7="Alta",L7="Leve"),AND(H7="Alta",L7="Menor")),"Moderado",IF(OR(AND(H7="Muy Baja",L7="Mayor"),AND(H7="Baja",L7="Mayor"),AND(H7="Media",L7="Mayor"),AND(H7="Alta",L7="Moderado"),AND(H7="Alta",L7="Mayor"),AND(H7="Muy Alta",L7="Leve"),AND(H7="Muy Alta",L7="Menor"),AND(H7="Muy Alta",L7="Moderado"),AND(H7="Muy Alta",L7="Mayor")),"Alto",IF(OR(AND(H7="Muy Baja",L7="Catastrófico"),AND(H7="Baja",L7="Catastrófico"),AND(H7="Media",L7="Catastrófico"),AND(H7="Alta",L7="Catastrófico"),AND(H7="Muy Alta",L7="Catastrófico")),"Extremo","")))) -> Alto | O7: 1 | P7: El encargado de planeación realiza copias de seguridad de la información el cual las almacena en el Documentos (unidad C), | Q7: Realizar de las copias de seguridad de la información de Planeación Institucional y Proyectos | R7: Encargado del área de Planeación | S7: 46055 | T7: 46374
A8: 2 | B8: Gestión TRO Digital | C8: Económico y Reputacional | D8: Falta de seguimiento y mantenimiento insuficiente a los equipos adscritos al área TRO Digital. | E8: Posibilidad de Daños ocasionados o pérdida total de la información que se carga en la página web del Canal TRO. | F8: Fraude Externo | G8: 24 | H8: =IF(G8<=0,"",IF(G8<=2,"Muy Baja",IF(G8<=24,"Baja",IF(G8<=500,"Media",IF(G8<=5000,"Alta","Muy Alta"))))) -> Baja | I8: =IF(H8="","",IF(H8="Muy Baja",0.2,IF(H8="Baja",0.4,IF(H8="Media",0.6,IF(H8="Alta",0.8,IF(H8="Muy Alta",1,)))))) -> 0.4 | J8: Entre 100 y 500 SMLMV | K8: =IF(NOT(ISERROR(MATCH(J8,'[1]Tabla Impacto'!$B$221:$B$223,0))),'[1]Tabla Impacto'!$F$223&"Por favor no seleccionar los criterios de impacto(Afectación Económica o presupuestal y Pérdida Reputacional)",J8) -> Entre 100 y 500 SMLMV | L8: =IF(OR(K8='[1]Tabla Impacto'!$C$11,K8='[1]Tabla Impacto'!$D$11),"Leve",IF(OR(K8='[1]Tabla Impacto'!$C$12,K8='[1]Tabla Impacto'!$D$12),"Menor",IF(OR(K8='[1]Tabla Impacto'!$C$13,K8='[1]Tabla Impacto'!$D$13),"Moderado",IF(OR(K8='[1]Tabla Impacto'!$C$14,K8='[1]Tabla Impacto'!$D$14),"Mayor",IF(OR(K8='[1]Tabla Impacto'!$C$15,K8='[1]Tabla Impacto'!$D$15),"Catastrófico",""))))) -> Mayor | M8: =IF(L8="","",IF(L8="Leve",0.2,IF(L8="Menor",0.4,IF(L8="Moderado",0.6,IF(L8="Mayor",0.8,IF(L8="Catastrófico",1,)))))) -> 0.8 | N8: =IF(OR(AND(H8="Muy Baja",L8="Leve"),AND(H8="Muy Baja",L8="Menor"),AND(H8="Baja",L8="Leve")),"Bajo",IF(OR(AND(H8="Muy baja",L8="Moderado"),AND(H8="Baja",L8="Menor"),AND(H8="Baja",L8="Moderado"),AND(H8="Media",L8="Leve"),AND(H8="Media",L8="Menor"),AND(H8="Media",L8="Moderado"),AND(H8="Alta",L8="Leve"),AND(H8="Alta",L8="Menor")),"Moderado",IF(OR(AND(H8="Muy Baja",L8="Mayor"),AND(H8="Baja",L8="Mayor"),AND(H8="Media",L8="Mayor"),AND(H8="Alta",L8="Moderado"),AND(H8="Alta",L8="Mayor"),AND(H8="Muy Alta",L8="Leve"),AND(H8="Muy Alta",L8="Menor"),AND(H8="Muy Alta",L8="Moderado"),AND(H8="Muy Alta",L8="Mayor")),"Alto",IF(OR(AND(H8="Muy Baja",L8="Catastrófico"),AND(H8="Baja",L8="Catastrófico"),AND(H8="Media",L8="Catastrófico"),AND(H8="Alta",L8="Catastrófico"),AND(H8="Muy Alta",L8="Catastrófico")),"Extremo","")))) -> Alto | O8: 1 | P8: El personal encargado de web master de TRO Digital realiza un back up semanal a la página para salvaguardar la información, almacenada en el servidor. | Q8: Realizar un respaldo quincenal de la página web y almacenarlo en el servidor. | R8: Jefe de Tro Difgital | S8: 46055 | T8: 46374
A9: 3 | B9: Gestión Programación | C9: Económico y Reputacional | D9: Falta de control de inventario audiovisual | E9: No disponibilidad para emisión del archivo audiovisual histórico del canal Posible pérdida de disponibilidad del archivo audiovisual histórico del canal | F9: Fallas Tecnológicas | G9: 1000 | H9: =IF(G9<=0,"",IF(G9<=2,"Muy Baja",IF(G9<=24,"Baja",IF(G9<=500,"Media",IF(G9<=5000,"Alta","Muy Alta"))))) -> Alta | I9: =IF(H9="","",IF(H9="Muy Baja",0.2,IF(H9="Baja",0.4,IF(H9="Media",0.6,IF(H9="Alta",0.8,IF(H9="Muy Alta",1,)))))) -> 0.8 | J9: Entre 10 y 50 SMLMV | K9: =IF(NOT(ISERROR(MATCH(J9,'[1]Tabla Impacto'!$B$221:$B$223,0))),'[1]Tabla Impacto'!$F$223&"Por favor no seleccionar los criterios de impacto(Afectación Económica o presupuestal y Pérdida Reputacional)",J9) -> Entre 10 y 50 SMLMV | L9: =IF(OR(K9='[1]Tabla Impacto'!$C$11,K9='[1]Tabla Impacto'!$D$11),"Leve",IF(OR(K9='[1]Tabla Impacto'!$C$12,K9='[1]Tabla Impacto'!$D$12),"Menor",IF(OR(K9='[1]Tabla Impacto'!$C$13,K9='[1]Tabla Impacto'!$D$13),"Moderado",IF(OR(K9='[1]Tabla Impacto'!$C$14,K9='[1]Tabla Impacto'!$D$14),"Mayor",IF(OR(K9='[1]Tabla Impacto'!$C$15,K9='[1]Tabla Impacto'!$D$15),"Catastrófico",""))))) -> Menor | M9: =IF(L9="","",IF(L9="Leve",0.2,IF(L9="Menor",0.4,IF(L9="Moderado",0.6,IF(L9="Mayor",0.8,IF(L9="Catastrófico",1,)))))) -> 0.4 | N9: =IF(OR(AND(H9="Muy Baja",L9="Leve"),AND(H9="Muy Baja",L9="Menor"),AND(H9="Baja",L9="Leve")),"Bajo",IF(OR(AND(H9="Muy baja",L9="Moderado"),AND(H9="Baja",L9="Menor"),AND(H9="Baja",L9="Moderado"),AND(H9="Media",L9="Leve"),AND(H9="Media",L9="Menor"),AND(H9="Media",L9="Moderado"),AND(H9="Alta",L9="Leve"),AND(H9="Alta",L9="Menor")),"Moderado",IF(OR(AND(H9="Muy Baja",L9="Mayor"),AND(H9="Baja",L9="Mayor"),AND(H9="Media",L9="Mayor"),AND(H9="Alta",L9="Moderado"),AND(H9="Alta",L9="Mayor"),AND(H9="Muy Alta",L9="Leve"),AND(H9="Muy Alta",L9="Menor"),AND(H9="Muy Alta",L9="Moderado"),AND(H9="Muy Alta",L9="Mayor")),"Alto",IF(OR(AND(H9="Muy Baja",L9="Catastrófico"),AND(H9="Baja",L9="Catastrófico"),AND(H9="Media",L9="Catastrófico"),AND(H9="Alta",L9="Catastrófico"),AND(H9="Muy Alta",L9="Catastrófico")),"Extremo","")))) -> Moderado | O9: 1 | P9: El área de programación deberá solicitar de forma aleatoria la restauración de una pieza audiovisual a través del Sistema VSN Explorer que se encuentre en custodia de archivo audiovisual de manera periódica o cuando sea necesaria la información, entre los soportes que quedan de este control encontramos Correo electrónico, Ruta de tráfico de programación (Ubicación del contenido) | Q9: Solicitar a través de correo electrónico cuando se requiera una restauración de pieza audiovisual a través del Sistema VSN | R9: Director de Producción y Programación | S9: 46055 | T9: 46374
A10: 4 | B10: Gestión Programación | C10: Económico y Reputacional | D10: Que existan ataques cibernéticos que afecten el sistema y que el sistema contratado no sea idóneo para soportal la información alojada. | E10: No disponibilidad de base de datos de los documentos generados a través del sistema VSN Crea de Programación para el caso de continuidad diaria y parrilla semanal de programación. | F10: Fallas Tecnológicas | G10: 1000 | H10: =IF(G10<=0,"",IF(G10<=2,"Muy Baja",IF(G10<=24,"Baja",IF(G10<=500,"Media",IF(G10<=5000,"Alta","Muy Alta"))))) -> Alta | I10: =IF(H10="","",IF(H10="Muy Baja",0.2,IF(H10="Baja",0.4,IF(H10="Media",0.6,IF(H10="Alta",0.8,IF(H10="Muy Alta",1,)))))) -> 0.8 | J10: Entre 50 y 100 SMLMV | K10: =IF(NOT(ISERROR(MATCH(J10,'[1]Tabla Impacto'!$B$221:$B$223,0))),'[1]Tabla Impacto'!$F$223&"Por favor no seleccionar los criterios de impacto(Afectación Económica o presupuestal y Pérdida Reputacional)",J10) -> Entre 50 y 100 SMLMV | L10: =IF(OR(K10='[1]Tabla Impacto'!$C$11,K10='[1]Tabla Impacto'!$D$11),"Leve",IF(OR(K10='[1]Tabla Impacto'!$C$12,K10='[1]Tabla Impacto'!$D$12),"Menor",IF(OR(K10='[1]Tabla Impacto'!$C$13,K10='[1]Tabla Impacto'!$D$13),"Moderado",IF(OR(K10='[1]Tabla Impacto'!$C$14,K10='[1]Tabla Impacto'!$D$14),"Mayor",IF(OR(K10='[1]Tabla Impacto'!$C$15,K10='[1]Tabla Impacto'!$D$15),"Catastrófico",""))))) -> Moderado | M10: =IF(L10="","",IF(L10="Leve",0.2,IF(L10="Menor",0.4,IF(L10="Moderado",0.6,IF(L10="Mayor",0.8,IF(L10="Catastrófico",1,)))))) -> 0.6 | N10: =IF(OR(AND(H10="Muy Baja",L10="Leve"),AND(H10="Muy Baja",L10="Menor"),AND(H10="Baja",L10="Leve")),"Bajo",IF(OR(AND(H10="Muy baja",L10="Moderado"),AND(H10="Baja",L10="Menor"),AND(H10="Baja",L10="Moderado"),AND(H10="Media",L10="Leve"),AND(H10="Media",L10="Menor"),AND(H10="Media",L10="Moderado"),AND(H10="Alta",L10="Leve"),AND(H10="Alta",L10="Menor")),"Moderado",IF(OR(AND(H10="Muy Baja",L10="Mayor"),AND(H10="Baja",L10="Mayor"),AND(H10="Media",L10="Mayor"),AND(H10="Alta",L10="Moderado"),AND(H10="Alta",L10="Mayor"),AND(H10="Muy Alta",L10="Leve"),AND(H10="Muy Alta",L10="Menor"),AND(H10="Muy Alta",L10="Moderado"),AND(H10="Muy Alta",L10="Mayor")),"Alto",IF(OR(AND(H10="Muy Baja",L10="Catastrófico"),AND(H10="Baja",L10="Catastrófico"),AND(H10="Media",L10="Catastrófico"),AND(H10="Alta",L10="Catastrófico"),AND(H10="Muy Alta",L10="Catastrófico")),"Extremo","")))) -> Alto | O10: 1 | P10: El operador de Van Crea y la persona responsable de crear las parrillas de programación son los encargados de generar los informes a través del modulo de reportes y del modulo de consolidaciones y la exportación de parrilla generada por el sistema VSN CREA. Es importante resaltar que las exportaciones de la parrilla de programación se hacen de manera diaria y los informes generados por el sistema se hacen de manera mensual o trimestral. | Q10: La Encargada de operar el sistema VSN CREA realiza la exportación diaria de la parrilla y se envía a través de correo electrónico a las áreas involucradas programación y técnica y emisión | R10: Director de Producción y Programación | S10: 46055 | T10: 46374
A11: 5 | B11: Gestión de Producción | C11: Económico y Reputacional | D11: Rotación de personal en los equipos del área de producción Por acceso de varias personas a la red se han borrado los archivo. Que la información no sea salvaguardada en los correos y en los equipos del área de producción y programación. | E11: Posibilidad de alteración y perdida de la información | F11: Fallas Tecnológicas | G11: 1000 | H11: =IF(G11<=0,"",IF(G11<=2,"Muy Baja",IF(G11<=24,"Baja",IF(G11<=500,"Media",IF(G11<=5000,"Alta","Muy Alta"))))) -> Alta | I11: =IF(H11="","",IF(H11="Muy Baja",0.2,IF(H11="Baja",0.4,IF(H11="Media",0.6,IF(H11="Alta",0.8,IF(H11="Muy Alta",1,)))))) -> 0.8 | J11: Entre 50 y 100 SMLMV | K11: =IF(NOT(ISERROR(MATCH(J11,'[1]Tabla Impacto'!$B$221:$B$223,0))),'[1]Tabla Impacto'!$F$223&"Por favor no seleccionar los criterios de impacto(Afectación Económica o presupuestal y Pérdida Reputacional)",J11) -> Entre 50 y 100 SMLMV | L11: =IF(OR(K11='[1]Tabla Impacto'!$C$11,K11='[1]Tabla Impacto'!$D$11),"Leve",IF(OR(K11='[1]Tabla Impacto'!$C$12,K11='[1]Tabla Impacto'!$D$12),"Menor",IF(OR(K11='[1]Tabla Impacto'!$C$13,K11='[1]Tabla Impacto'!$D$13),"Moderado",IF(OR(K11='[1]Tabla Impacto'!$C$14,K11='[1]Tabla Impacto'!$D$14),"Mayor",IF(OR(K11='[1]Tabla Impacto'!$C$15,K11='[1]Tabla Impacto'!$D$15),"Catastrófico",""))))) -> Moderado | M11: =IF(L11="","",IF(L11="Leve",0.2,IF(L11="Menor",0.4,IF(L11="Moderado",0.6,IF(L11="Mayor",0.8,IF(L11="Catastrófico",1,)))))) -> 0.6 | N11: =IF(OR(AND(H11="Muy Baja",L11="Leve"),AND(H11="Muy Baja",L11="Menor"),AND(H11="Baja",L11="Leve")),"Bajo",IF(OR(AND(H11="Muy baja",L11="Moderado"),AND(H11="Baja",L11="Menor"),AND(H11="Baja",L11="Moderado"),AND(H11="Media",L11="Leve"),AND(H11="Media",L11="Menor"),AND(H11="Media",L11="Moderado"),AND(H11="Alta",L11="Leve"),AND(H11="Alta",L11="Menor")),"Moderado",IF(OR(AND(H11="Muy Baja",L11="Mayor"),AND(H11="Baja",L11="Mayor"),AND(H11="Media",L11="Mayor"),AND(H11="Alta",L11="Moderado"),AND(H11="Alta",L11="Mayor"),AND(H11="Muy Alta",L11="Leve"),AND(H11="Muy Alta",L11="Menor"),AND(H11="Muy Alta",L11="Moderado"),AND(H11="Muy Alta",L11="Mayor")),"Alto",IF(OR(AND(H11="Muy Baja",L11="Catastrófico"),AND(H11="Baja",L11="Catastrófico"),AND(H11="Media",L11="Catastrófico"),AND(H11="Alta",L11="Catastrófico"),AND(H11="Muy Alta",L11="Catastrófico")),"Extremo","")))) -> Alto | O11: 1 | P11: El área de ingesta de archivo audiovisual debe velar porque se registren las grabaciones de periodistas o realizadores del canal después de su grabación mediante la entrega de una la tarjeta para que a su vez esta área mediante fichas de entrega de material pase la información al archivo del canal, la frecuencia de esta actividad es diaria. | Q11: La Encargada del área de programación y producción verifica a través de visita al archivo audiovisual pantallazos de las notas de los periodista que son guardadas en FTP | R11: Director de Producción y Programación | S11: 46055 | T11: 46374
A12: 6 | B12: Gestión Técnica | C12: Económico y Reputacional | D12: Fallas de los equipos Incumplimiento en la ejecución de los mantenimientos preventivos y/o correctivos Obsolescencia de equipos | E12: Probabilidad de la interrupción parcial o total de los servicios tecnológicos | F12: Fallas Tecnológicas | G12: 24 | H12: =IF(G12<=0,"",IF(G12<=2,"Muy Baja",IF(G12<=24,"Baja",IF(G12<=500,"Media",IF(G12<=5000,"Alta","Muy Alta"))))) -> Baja | I12: =IF(H12="","",IF(H12="Muy Baja",0.2,IF(H12="Baja",0.4,IF(H12="Media",0.6,IF(H12="Alta",0.8,IF(H12="Muy Alta",1,)))))) -> 0.4 | J12: Entre 50 y 100 SMLMV | K12: =IF(NOT(ISERROR(MATCH(J12,'[1]Tabla Impacto'!$B$221:$B$223,0))),'[1]Tabla Impacto'!$F$223&"Por favor no seleccionar los criterios de impacto(Afectación Económica o presupuestal y Pérdida Reputacional)",J12) -> Entre 50 y 100 SMLMV | L12: =IF(OR(K12='[1]Tabla Impacto'!$C$11,K12='[1]Tabla Impacto'!$D$11),"Leve",IF(OR(K12='[1]Tabla Impacto'!$C$12,K12='[1]Tabla Impacto'!$D$12),"Menor",IF(OR(K12='[1]Tabla Impacto'!$C$13,K12='[1]Tabla Impacto'!$D$13),"Moderado",IF(OR(K12='[1]Tabla Impacto'!$C$14,K12='[1]Tabla Impacto'!$D$14),"Mayor",IF(OR(K12='[1]Tabla Impacto'!$C$15,K12='[1]Tabla Impacto'!$D$15),"Catastrófico",""))))) -> Moderado | M12: =IF(L12="","",IF(L12="Leve",0.2,IF(L12="Menor",0.4,IF(L12="Moderado",0.6,IF(L12="Mayor",0.8,IF(L12="Catastrófico",1,)))))) -> 0.6 | N12: =IF(OR(AND(H12="Muy Baja",L12="Leve"),AND(H12="Muy Baja",L12="Menor"),AND(H12="Baja",L12="Leve")),"Bajo",IF(OR(AND(H12="Muy baja",L12="Moderado"),AND(H12="Baja",L12="Menor"),AND(H12="Baja",L12="Moderado"),AND(H12="Media",L12="Leve"),AND(H12="Media",L12="Menor"),AND(H12="Media",L12="Moderado"),AND(H12="Alta",L12="Leve"),AND(H12="Alta",L12="Menor")),"Moderado",IF(OR(AND(H12="Muy Baja",L12="Mayor"),AND(H12="Baja",L12="Mayor"),AND(H12="Media",L12="Mayor"),AND(H12="Alta",L12="Moderado"),AND(H12="Alta",L12="Mayor"),AND(H12="Muy Alta",L12="Leve"),AND(H12="Muy Alta",L12="Menor"),AND(H12="Muy Alta",L12="Moderado"),AND(H12="Muy Alta",L12="Mayor")),"Alto",IF(OR(AND(H12="Muy Baja",L12="Catastrófico"),AND(H12="Baja",L12="Catastrófico"),AND(H12="Media",L12="Catastrófico"),AND(H12="Alta",L12="Catastrófico"),AND(H12="Muy Alta",L12="Catastrófico")),"Extremo","")))) -> Moderado | O12: 1 | P12: Realizar los mantenimientos preventivos, la renovación tecnológica de forma oportuna y respaldar la infraestructura crítica. El grupo de broadcast y TI serán los encargados de ejecutar la rutinas de mantenimiento; el plan de compras será responsabilidad del Director de Técnica y Emisión, el cual, tendrá como insumos los reportes de obsolescencia y los requerimientos de las diferentes áreas del Canal TRO. | Q12: Realizar las rutinas de mantenimiento preventivo, según procedimiento. Igualmente realizar los correctivos que se requieran. | R12: Director Técnico y de emision | S12: 46055 | T12: 46374
A13: 7 | B13: Gestión Técnica | C13: Económico y Reputacional | D13: Perdida o alteración total o parcial de la información en los recursos compartidos Falta de monitoreo, seguimiento según políticas de seguridad de los equipos de red Ataque informático La no identificación de un riesgo por falta de seguimiento. | E13: Posible explotación de una vulnerabilidad en algunos de los pilares de la seguridad de la información | F13: Fallas Tecnológicas | G13: 365 | H13: =IF(G13<=0,"",IF(G13<=2,"Muy Baja",IF(G13<=24,"Baja",IF(G13<=500,"Media",IF(G13<=5000,"Alta","Muy Alta"))))) -> Media | I13: =IF(H13="","",IF(H13="Muy Baja",0.2,IF(H13="Baja",0.4,IF(H13="Media",0.6,IF(H13="Alta",0.8,IF(H13="Muy Alta",1,)))))) -> 0.6 | J13: El riesgo afecta la imagen de de la entidad con efecto publicitario sostenido a nivel de sector administrativo, nivel departamental o municipal | K13: =IF(NOT(ISERROR(MATCH(J13,'[1]Tabla Impacto'!$B$221:$B$223,0))),'[1]Tabla Impacto'!$F$223&"Por favor no seleccionar los criterios de impacto(Afectación Económica o presupuestal y Pérdida Reputacional)",J13) -> El riesgo afecta la imagen de de la entidad con efecto publicitario sostenido a nivel de sector administrativo, nivel departamental o municipal | L13: =IF(OR(K13='[1]Tabla Impacto'!$C$11,K13='[1]Tabla Impacto'!$D$11),"Leve",IF(OR(K13='[1]Tabla Impacto'!$C$12,K13='[1]Tabla Impacto'!$D$12),"Menor",IF(OR(K13='[1]Tabla Impacto'!$C$13,K13='[1]Tabla Impacto'!$D$13),"Moderado",IF(OR(K13='[1]Tabla Impacto'!$C$14,K13='[1]Tabla Impacto'!$D$14),"Mayor",IF(OR(K13='[1]Tabla Impacto'!$C$15,K13='[1]Tabla Impacto'!$D$15),"Catastrófico",""))))) -> Mayor | M13: =IF(L13="","",IF(L13="Leve",0.2,IF(L13="Menor",0.4,IF(L13="Moderado",0.6,IF(L13="Mayor",0.8,IF(L13="Catastrófico",1,)))))) -> 0.8 | N13: =IF(OR(AND(H13="Muy Baja",L13="Leve"),AND(H13="Muy Baja",L13="Menor"),AND(H13="Baja",L13="Leve")),"Bajo",IF(OR(AND(H13="Muy baja",L13="Moderado"),AND(H13="Baja",L13="Menor"),AND(H13="Baja",L13="Moderado"),AND(H13="Media",L13="Leve"),AND(H13="Media",L13="Menor"),AND(H13="Media",L13="Moderado"),AND(H13="Alta",L13="Leve"),AND(H13="Alta",L13="Menor")),"Moderado",IF(OR(AND(H13="Muy Baja",L13="Mayor"),AND(H13="Baja",L13="Mayor"),AND(H13="Media",L13="Mayor"),AND(H13="Alta",L13="Moderado"),AND(H13="Alta",L13="Mayor"),AND(H13="Muy Alta",L13="Leve"),AND(H13="Muy Alta",L13="Menor"),AND(H13="Muy Alta",L13="Moderado"),AND(H13="Muy Alta",L13="Mayor")),"Alto",IF(OR(AND(H13="Muy Baja",L13="Catastrófico"),AND(H13="Baja",L13="Catastrófico"),AND(H13="Media",L13="Catastrófico"),AND(H13="Alta",L13="Catastrófico"),AND(H13="Muy Alta",L13="Catastrófico")),"Extremo","")))) -> Alto | O13: 1 | P13: El Director Técnico y su equipo de trabajo realizara : 1Comunicar semestralmente las políticas de seguridad de la información por medio de los medios internos de comunicación a cargo del Área de Comunicaciones y Talento Humano y/o cada vez que se haga una inducción de personal. | Q13: Comunicar las políticas de seguridad de la información por medio de los canales de comunicación de Gestión Talento Humano o Gestión Comunicaciones. | R13: Director Técnico y de emision | S13: 46055 | T13: 46374
K14: =IF(NOT(ISERROR(MATCH(J14,_xlfn.ANCHORARRAY(E17),0))),#REF!&"Por favor no seleccionar los criterios de impacto",J14) -> 0 | O14: 2 | P14: Revisar las listas de control de acceso perimetral. (Firewall) por medio de la contratación del servicio de seguridad perimetral con un ISP, donde Gestión Técnica es responsable de cada reunión con el ISP por lo menos una vez al año para revisar las políticas de seguridad implementadas en el firewall. | Q14: Realizar anualmente con el proveedor del servicio la revisión de las listas de control de acceso perimetral. (Firewall) con la finalidad de mitigar una posible explotación a una vulnerabilidad | R14: Director Técnico y de emision | S14: 46055 | T14: 46374
K15: =IF(NOT(ISERROR(MATCH(J15,_xlfn.ANCHORARRAY(#REF!),0))),#REF!&"Por favor no seleccionar los criterios de impacto",J15) -> 0 | O15: 3 | P15: Crear perfiles de usuario para los sistemas de información, por medio de los permisos de administrador para crear los perfiles el cual Gestión Técnica es responsable cada vez que se requiera de crear los perfiles. | Q15: Crear cada vez que se requiera perfiles de usuarios para los sistemas de información, con permisos según corresponda el rol y solicitud.(creación formato perfiles permisos sistemas de información) | R15: Director Técnico y de emision | S15: 46055 | T15: 46374
A16: 8 | B16: Gestión Técnica | C16: Económico y Reputacional | D16: Falla de equipos Falta de ambiente de pruebas para los sistemas de información | E16: Probabilidad de la no disponibilidad de las copias de seguridad o respaldo | F16: Fallas Tecnológicas | G16: 365 | H16: =IF(G16<=0,"",IF(G16<=2,"Muy Baja",IF(G16<=24,"Baja",IF(G16<=500,"Media",IF(G16<=5000,"Alta","Muy Alta"))))) -> Media | I16: =IF(H16="","",IF(H16="Muy Baja",0.2,IF(H16="Baja",0.4,IF(H16="Media",0.6,IF(H16="Alta",0.8,IF(H16="Muy Alta",1,)))))) -> 0.6 | J16: El riesgo afecta la imagen de de la entidad con efecto publicitario sostenido a nivel de sector administrativo, nivel departamental o municipal | K16: =IF(NOT(ISERROR(MATCH(J16,'[1]Tabla Impacto'!$B$221:$B$223,0))),'[1]Tabla Impacto'!$F$223&"Por favor no seleccionar los criterios de impacto(Afectación Económica o presupuestal y Pérdida Reputacional)",J16) -> El riesgo afecta la imagen de de la entidad con efecto publicitario sostenido a nivel de sector administrativo, nivel departamental o municipal | L16: =IF(OR(K16='[1]Tabla Impacto'!$C$11,K16='[1]Tabla Impacto'!$D$11),"Leve",IF(OR(K16='[1]Tabla Impacto'!$C$12,K16='[1]Tabla Impacto'!$D$12),"Menor",IF(OR(K16='[1]Tabla Impacto'!$C$13,K16='[1]Tabla Impacto'!$D$13),"Moderado",IF(OR(K16='[1]Tabla Impacto'!$C$14,K16='[1]Tabla Impacto'!$D$14),"Mayor",IF(OR(K16='[1]Tabla Impacto'!$C$15,K16='[1]Tabla Impacto'!$D$15),"Catastrófico",""))))) -> Mayor | M16: =IF(L16="","",IF(L16="Leve",0.2,IF(L16="Menor",0.4,IF(L16="Moderado",0.6,IF(L16="Mayor",0.8,IF(L16="Catastrófico",1,)))))) -> 0.8 | N16: =IF(OR(AND(H16="Muy Baja",L16="Leve"),AND(H16="Muy Baja",L16="Menor"),AND(H16="Baja",L16="Leve")),"Bajo",IF(OR(AND(H16="Muy baja",L16="Moderado"),AND(H16="Baja",L16="Menor"),AND(H16="Baja",L16="Moderado"),AND(H16="Media",L16="Leve"),AND(H16="Media",L16="Menor"),AND(H16="Media",L16="Moderado"),AND(H16="Alta",L16="Leve"),AND(H16="Alta",L16="Menor")),"Moderado",IF(OR(AND(H16="Muy Baja",L16="Mayor"),AND(H16="Baja",L16="Mayor"),AND(H16="Media",L16="Mayor"),AND(H16="Alta",L16="Moderado"),AND(H16="Alta",L16="Mayor"),AND(H16="Muy Alta",L16="Leve"),AND(H16="Muy Alta",L16="Menor"),AND(H16="Muy Alta",L16="Moderado"),AND(H16="Muy Alta",L16="Mayor")),"Alto",IF(OR(AND(H16="Muy Baja",L16="Catastrófico"),AND(H16="Baja",L16="Catastrófico"),AND(H16="Media",L16="Catastrófico"),AND(H16="Alta",L16="Catastrófico"),AND(H16="Muy Alta",L16="Catastrófico")),"Extremo","")))) -> Alto | O16: 1 | P16: Controlar que las copias de las bases de datos se estén realizando a través de un disco duro y/o a la nube, donde el equipo de Técnica y el responsable del sistema de información diligencian el formato de solicitudes, este proceso se realiza diariamente. | Q16: Llevar el registro semanalmente a través del formato de solicitudes, las copias de seguridad de las bases de datos que se realizan a través de un disco duro y/o nube. | R16: Director Técnico y de emision | S16: 46055 | T16: 46374
A17: 9 | B17: Gestión Archivo Audiovisual | C17: Económico y Reputacional | D17: Falta de equipos para la digitalización de la información Falta de cumplimiento de los parámetros de almacenamiento de material. | E17: Alteración o perdida del material audiovisual del área de Archivo Audiovisual. | F17: Fallas Tecnológicas | G17: 501 | H17: =IF(G17<=0,"",IF(G17<=2,"Muy Baja",IF(G17<=24,"Baja",IF(G17<=500,"Media",IF(G17<=5000,"Alta","Muy Alta"))))) -> Alta | I17: =IF(H17="","",IF(H17="Muy Baja",0.2,IF(H17="Baja",0.4,IF(H17="Media",0.6,IF(H17="Alta",0.8,IF(H17="Muy Alta",1,)))))) -> 0.8 | J17: Entre 100 y 500 SMLMV | K17: =IF(NOT(ISERROR(MATCH(J17,'[1]Tabla Impacto'!$B$221:$B$223,0))),'[1]Tabla Impacto'!$F$223&"Por favor no seleccionar los criterios de impacto(Afectación Económica o presupuestal y Pérdida Reputacional)",J17) -> Entre 100 y 500 SMLMV | L17: =IF(OR(K17='[1]Tabla Impacto'!$C$11,K17='[1]Tabla Impacto'!$D$11),"Leve",IF(OR(K17='[1]Tabla Impacto'!$C$12,K17='[1]Tabla Impacto'!$D$12),"Menor",IF(OR(K17='[1]Tabla Impacto'!$C$13,K17='[1]Tabla Impacto'!$D$13),"Moderado",IF(OR(K17='[1]Tabla Impacto'!$C$14,K17='[1]Tabla Impacto'!$D$14),"Mayor",IF(OR(K17='[1]Tabla Impacto'!$C$15,K17='[1]Tabla Impacto'!$D$15),"Catastrófico",""))))) -> Mayor | M17: =IF(L17="","",IF(L17="Leve",0.2,IF(L17="Menor",0.4,IF(L17="Moderado",0.6,IF(L17="Mayor",0.8,IF(L17="Catastrófico",1,)))))) -> 0.8 | N17: =IF(OR(AND(H17="Muy Baja",L17="Leve"),AND(H17="Muy Baja",L17="Menor"),AND(H17="Baja",L17="Leve")),"Bajo",IF(OR(AND(H17="Muy baja",L17="Moderado"),AND(H17="Baja",L17="Menor"),AND(H17="Baja",L17="Moderado"),AND(H17="Media",L17="Leve"),AND(H17="Media",L17="Menor"),AND(H17="Media",L17="Moderado"),AND(H17="Alta",L17="Leve"),AND(H17="Alta",L17="Menor")),"Moderado",IF(OR(AND(H17="Muy Baja",L17="Mayor"),AND(H17="Baja",L17="Mayor"),AND(H17="Media",L17="Mayor"),AND(H17="Alta",L17="Moderado"),AND(H17="Alta",L17="Mayor"),AND(H17="Muy Alta",L17="Leve"),AND(H17="Muy Alta",L17="Menor"),AND(H17="Muy Alta",L17="Moderado"),AND(H17="Muy Alta",L17="Mayor")),"Alto",IF(OR(AND(H17="Muy Baja",L17="Catastrófico"),AND(H17="Baja",L17="Catastrófico"),AND(H17="Media",L17="Catastrófico"),AND(H17="Alta",L17="Catastrófico"),AND(H17="Muy Alta",L17="Catastrófico")),"Extremo","")))) -> Alto | O17: 1 | P17: La encargada del proceso de Archivo audiovisual realiza el cargue del material audiovisual en el software VSN de manera diaria queda registrado como control en unos formatos específicos aprobados por el SIG. En cuanto al software de van , esos usuarios los crea técnica mediante la plataforma y ahí se definen los permisos que tiene cada uno de ellos | Q17: Gestionar capacitaciones y actualizaciones respecto a la conservación preservación del material Audiovisual con apoyo del área de Talento Humano | R17: Archivo audiovisual | S17: 46055 | T17: 46374
A18: 10 | B18: Gestión Financiera y presupuestal (Secretaria General ) | C18: Económico y Reputacional | D18: Ausencia de copias de seguridad. Ausencia de verificación de la idoneidad y calidad de las copias de respaldo. Ausencia de control en el cambio de claves de los sistemas de información Falta de definición de roles con restricciones a los sistemas de información. | E18: Posibilidad de alteración de la información Contable electrónica | F18: Fraude Interno | G18: 501 | H18: =IF(G18<=0,"",IF(G18<=2,"Muy Baja",IF(G18<=24,"Baja",IF(G18<=500,"Media",IF(G18<=5000,"Alta","Muy Alta"))))) -> Alta | I18: =IF(H18="","",IF(H18="Muy Baja",0.2,IF(H18="Baja",0.4,IF(H18="Media",0.6,IF(H18="Alta",0.8,IF(H18="Muy Alta",1,)))))) -> 0.8 | J18: Entre 100 y 500 SMLMV | K18: =IF(NOT(ISERROR(MATCH(J18,'[1]Tabla Impacto'!$B$221:$B$223,0))),'[1]Tabla Impacto'!$F$223&"Por favor no seleccionar los criterios de impacto(Afectación Económica o presupuestal y Pérdida Reputacional)",J18) -> Entre 100 y 500 SMLMV | L18: =IF(OR(K18='[1]Tabla Impacto'!$C$11,K18='[1]Tabla Impacto'!$D$11),"Leve",IF(OR(K18='[1]Tabla Impacto'!$C$12,K18='[1]Tabla Impacto'!$D$12),"Menor",IF(OR(K18='[1]Tabla Impacto'!$C$13,K18='[1]Tabla Impacto'!$D$13),"Moderado",IF(OR(K18='[1]Tabla Impacto'!$C$14,K18='[1]Tabla Impacto'!$D$14),"Mayor",IF(OR(K18='[1]Tabla Impacto'!$C$15,K18='[1]Tabla Impacto'!$D$15),"Catastrófico",""))))) -> Mayor | M18: =IF(L18="","",IF(L18="Leve",0.2,IF(L18="Menor",0.4,IF(L18="Moderado",0.6,IF(L18="Mayor",0.8,IF(L18="Catastrófico",1,)))))) -> 0.8 | N18: =IF(OR(AND(H18="Muy Baja",L18="Leve"),AND(H18="Muy Baja",L18="Menor"),AND(H18="Baja",L18="Leve")),"Bajo",IF(OR(AND(H18="Muy baja",L18="Moderado"),AND(H18="Baja",L18="Menor"),AND(H18="Baja",L18="Moderado"),AND(H18="Media",L18="Leve"),AND(H18="Media",L18="Menor"),AND(H18="Media",L18="Moderado"),AND(H18="Alta",L18="Leve"),AND(H18="Alta",L18="Menor")),"Moderado",IF(OR(AND(H18="Muy Baja",L18="Mayor"),AND(H18="Baja",L18="Mayor"),AND(H18="Media",L18="Mayor"),AND(H18="Alta",L18="Moderado"),AND(H18="Alta",L18="Mayor"),AND(H18="Muy Alta",L18="Leve"),AND(H18="Muy Alta",L18="Menor"),AND(H18="Muy Alta",L18="Moderado"),AND(H18="Muy Alta",L18="Mayor")),"Alto",IF(OR(AND(H18="Muy Baja",L18="Catastrófico"),AND(H18="Baja",L18="Catastrófico"),AND(H18="Media",L18="Catastrófico"),AND(H18="Alta",L18="Catastrófico"),AND(H18="Muy Alta",L18="Catastrófico")),"Extremo","")))) -> Alto | O18: 1 | P18: Realizar copias de seguridad diarias en el sistema de información | Q18: Solicitar al área técnica la copia de respaldo en un disco externo, con almacenamiento semanal. | R18: Área técnica- Financiera | S18: 46055 | T18: 46374
K19: =IF(NOT(ISERROR(MATCH(J19,_xlfn.ANCHORARRAY(E22),0))),#REF!&"Por favor no seleccionar los criterios de impacto",J19) -> 0 | O19: 2 | P19: Establecer copias de seguridad externas al área técnica Revisión periódica de la idoneidad de las copias de seguridad | Q19: Restablecer la copia de seguridad en una base de datos de pruebas para verificar la idoneidad y garantía de las mismas en caso de llegarse a requerir Se solicita al área de técnica que valide la idoneidad y garantía de las copias de respaldo del software | R19: Área técnica- Financiera | S19: 46055 | T19: 46374
K20: =IF(NOT(ISERROR(MATCH(J20,_xlfn.ANCHORARRAY(#REF!),0))),#REF!&"Por favor no seleccionar los criterios de impacto",J20) -> 0 | O20: 3 | R20: Área contable, financiera y gestión documental | S20: 46055 | T20: 46374
A21: 11 | B21: Gestión Financiera y presupuestal (Secretaria General ) | C21: Económico y Reputacional | D21: Acceso de personas no autorizadas al área Ausencia de control de seguridad física de la información | E21: Posibilidad de pérdida de información en presupuesto, contabilidad, facturación, cartera y tesorería del archivo documental físico | F21: Fraude Interno | G21: 40 | H21: =IF(G21<=0,"",IF(G21<=2,"Muy Baja",IF(G21<=24,"Baja",IF(G21<=500,"Media",IF(G21<=5000,"Alta","Muy Alta"))))) -> Media | I21: =IF(H21="","",IF(H21="Muy Baja",0.2,IF(H21="Baja",0.4,IF(H21="Media",0.6,IF(H21="Alta",0.8,IF(H21="Muy Alta",1,)))))) -> 0.6 | J21: El riesgo afecta la imagen de la entidad con algunos usuarios de relevancia frente al logro de los objetivos | K21: =IF(NOT(ISERROR(MATCH(J21,'[1]Tabla Impacto'!$B$221:$B$223,0))),'[1]Tabla Impacto'!$F$223&"Por favor no seleccionar los criterios de impacto(Afectación Económica o presupuestal y Pérdida Reputacional)",J21) -> El riesgo afecta la imagen de la entidad con algunos usuarios de relevancia frente al logro de los objetivos | L21: =IF(OR(K21='[1]Tabla Impacto'!$C$11,K21='[1]Tabla Impacto'!$D$11),"Leve",IF(OR(K21='[1]Tabla Impacto'!$C$12,K21='[1]Tabla Impacto'!$D$12),"Menor",IF(OR(K21='[1]Tabla Impacto'!$C$13,K21='[1]Tabla Impacto'!$D$13),"Moderado",IF(OR(K21='[1]Tabla Impacto'!$C$14,K21='[1]Tabla Impacto'!$D$14),"Mayor",IF(OR(K21='[1]Tabla Impacto'!$C$15,K21='[1]Tabla Impacto'!$D$15),"Catastrófico",""))))) -> Moderado | M21: =IF(L21="","",IF(L21="Leve",0.2,IF(L21="Menor",0.4,IF(L21="Moderado",0.6,IF(L21="Mayor",0.8,IF(L21="Catastrófico",1,)))))) -> 0.6 | N21: =IF(OR(AND(H21="Muy Baja",L21="Leve"),AND(H21="Muy Baja",L21="Menor"),AND(H21="Baja",L21="Leve")),"Bajo",IF(OR(AND(H21="Muy baja",L21="Moderado"),AND(H21="Baja",L21="Menor"),AND(H21="Baja",L21="Moderado"),AND(H21="Media",L21="Leve"),AND(H21="Media",L21="Menor"),AND(H21="Media",L21="Moderado"),AND(H21="Alta",L21="Leve"),AND(H21="Alta",L21="Menor")),"Moderado",IF(OR(AND(H21="Muy Baja",L21="Mayor"),AND(H21="Baja",L21="Mayor"),AND(H21="Media",L21="Mayor"),AND(H21="Alta",L21="Moderado"),AND(H21="Alta",L21="Mayor"),AND(H21="Muy Alta",L21="Leve"),AND(H21="Muy Alta",L21="Menor"),AND(H21="Muy Alta",L21="Moderado"),AND(H21="Muy Alta",L21="Mayor")),"Alto",IF(OR(AND(H21="Muy Baja",L21="Catastrófico"),AND(H21="Baja",L21="Catastrófico"),AND(H21="Media",L21="Catastrófico"),AND(H21="Alta",L21="Catastrófico"),AND(H21="Muy Alta",L21="Catastrófico")),"Extremo","")))) -> Moderado | O21: 1 | P21: Definir un espacio específico de salvaguarda del archivo físico, con llave de seguridad | Q21: Llevar un control de los archivos físicos que maneje el cual debe ser salvaguardado y bajo custodia de cada contratista y funcionario. Cada cierre de periodo se realiza entrega del documento físico a gestión documental. Se realiza entrega a control documental, de los contratos de logística, por cumplimiento de contratos con cada operador logístico. | R21: Área contable, financiera y gestión documental | S21: 46055 | T21: 46374
A22: 12 | B22: Gestión Bienes y Servicios | C22: Económico y Reputacional | D22: Falla eléctrica prolongada Falta de seguimiento y control Falta de actualización en el sistema Falta de copias de seguridad | E22: Posibilidad de pérdida de la información del área de bienes y servicios generada en el software | F22: Fallas Tecnológicas | G22: 360 | H22: =IF(G22<=0,"",IF(G22<=2,"Muy Baja",IF(G22<=24,"Baja",IF(G22<=500,"Media",IF(G22<=5000,"Alta","Muy Alta"))))) -> Media | I22: =IF(H22="","",IF(H22="Muy Baja",0.2,IF(H22="Baja",0.4,IF(H22="Media",0.6,IF(H22="Alta",0.8,IF(H22="Muy Alta",1,)))))) -> 0.6 | J22: Entre 100 y 500 SMLMV | K22: =IF(NOT(ISERROR(MATCH(J22,'[1]Tabla Impacto'!$B$221:$B$223,0))),'[1]Tabla Impacto'!$F$223&"Por favor no seleccionar los criterios de impacto(Afectación Económica o presupuestal y Pérdida Reputacional)",J22) -> Entre 100 y 500 SMLMV | L22: =IF(OR(K22='[1]Tabla Impacto'!$C$11,K22='[1]Tabla Impacto'!$D$11),"Leve",IF(OR(K22='[1]Tabla Impacto'!$C$12,K22='[1]Tabla Impacto'!$D$12),"Menor",IF(OR(K22='[1]Tabla Impacto'!$C$13,K22='[1]Tabla Impacto'!$D$13),"Moderado",IF(OR(K22='[1]Tabla Impacto'!$C$14,K22='[1]Tabla Impacto'!$D$14),"Mayor",IF(OR(K22='[1]Tabla Impacto'!$C$15,K22='[1]Tabla Impacto'!$D$15),"Catastrófico",""))))) -> Mayor | M22: =IF(L22="","",IF(L22="Leve",0.2,IF(L22="Menor",0.4,IF(L22="Moderado",0.6,IF(L22="Mayor",0.8,IF(L22="Catastrófico",1,)))))) -> 0.8 | N22: =IF(OR(AND(H22="Muy Baja",L22="Leve"),AND(H22="Muy Baja",L22="Menor"),AND(H22="Baja",L22="Leve")),"Bajo",IF(OR(AND(H22="Muy baja",L22="Moderado"),AND(H22="Baja",L22="Menor"),AND(H22="Baja",L22="Moderado"),AND(H22="Media",L22="Leve"),AND(H22="Media",L22="Menor"),AND(H22="Media",L22="Moderado"),AND(H22="Alta",L22="Leve"),AND(H22="Alta",L22="Menor")),"Moderado",IF(OR(AND(H22="Muy Baja",L22="Mayor"),AND(H22="Baja",L22="Mayor"),AND(H22="Media",L22="Mayor"),AND(H22="Alta",L22="Moderado"),AND(H22="Alta",L22="Mayor"),AND(H22="Muy Alta",L22="Leve"),AND(H22="Muy Alta",L22="Menor"),AND(H22="Muy Alta",L22="Moderado"),AND(H22="Muy Alta",L22="Mayor")),"Alto",IF(OR(AND(H22="Muy Baja",L22="Catastrófico"),AND(H22="Baja",L22="Catastrófico"),AND(H22="Media",L22="Catastrófico"),AND(H22="Alta",L22="Catastrófico"),AND(H22="Muy Alta",L22="Catastrófico")),"Extremo","")))) -> Alto | O22: 1 | P22: El encargado de Bienes y servicios solicita al área técnica mediante correo electrónico realizar el backup del software de almacén | Q22: Realizar mensualmente copias de seguridad del software para salvaguardar la información | R22: Almacenista | S22: 46055 | T22: 46374
A23: 13 | B23: Gestión Archivo Documental | C23: Económico y Reputacional | D23: Falta de cambio de contraseña de acceso al drive de Gestión Documental. Falta de un software de Gestión Documental para el control de la información | E23: Alteración o perdida de la información digital del área de gestión documental | F23: Ejecución y Administración de procesos | G23: 501 | H23: =IF(G23<=0,"",IF(G23<=2,"Muy Baja",IF(G23<=24,"Baja",IF(G23<=500,"Media",IF(G23<=5000,"Alta","Muy Alta"))))) -> Alta | I23: =IF(H23="","",IF(H23="Muy Baja",0.2,IF(H23="Baja",0.4,IF(H23="Media",0.6,IF(H23="Alta",0.8,IF(H23="Muy Alta",1,)))))) -> 0.8 | J23: El riesgo afecta la imagen de la entidad a nivel nacional, con efecto publicitarios sostenible a nivel país | K23: =IF(NOT(ISERROR(MATCH(J23,'[1]Tabla Impacto'!$B$221:$B$223,0))),'[1]Tabla Impacto'!$F$223&"Por favor no seleccionar los criterios de impacto(Afectación Económica o presupuestal y Pérdida Reputacional)",J23) -> El riesgo afecta la imagen de la entidad a nivel nacional, con efecto publicitarios sostenible a nivel país | L23: =IF(OR(K23='[1]Tabla Impacto'!$C$11,K23='[1]Tabla Impacto'!$D$11),"Leve",IF(OR(K23='[1]Tabla Impacto'!$C$12,K23='[1]Tabla Impacto'!$D$12),"Menor",IF(OR(K23='[1]Tabla Impacto'!$C$13,K23='[1]Tabla Impacto'!$D$13),"Moderado",IF(OR(K23='[1]Tabla Impacto'!$C$14,K23='[1]Tabla Impacto'!$D$14),"Mayor",IF(OR(K23='[1]Tabla Impacto'!$C$15,K23='[1]Tabla Impacto'!$D$15),"Catastrófico",""))))) -> Catastrófico | M23: =IF(L23="","",IF(L23="Leve",0.2,IF(L23="Menor",0.4,IF(L23="Moderado",0.6,IF(L23="Mayor",0.8,IF(L23="Catastrófico",1,)))))) -> 1 | N23: =IF(OR(AND(H23="Muy Baja",L23="Leve"),AND(H23="Muy Baja",L23="Menor"),AND(H23="Baja",L23="Leve")),"Bajo",IF(OR(AND(H23="Muy baja",L23="Moderado"),AND(H23="Baja",L23="Menor"),AND(H23="Baja",L23="Moderado"),AND(H23="Media",L23="Leve"),AND(H23="Media",L23="Menor"),AND(H23="Media",L23="Moderado"),AND(H23="Alta",L23="Leve"),AND(H23="Alta",L23="Menor")),"Moderado",IF(OR(AND(H23="Muy Baja",L23="Mayor"),AND(H23="Baja",L23="Mayor"),AND(H23="Media",L23="Mayor"),AND(H23="Alta",L23="Moderado"),AND(H23="Alta",L23="Mayor"),AND(H23="Muy Alta",L23="Leve"),AND(H23="Muy Alta",L23="Menor"),AND(H23="Muy Alta",L23="Moderado"),AND(H23="Muy Alta",L23="Mayor")),"Alto",IF(OR(AND(H23="Muy Baja",L23="Catastrófico"),AND(H23="Baja",L23="Catastrófico"),AND(H23="Media",L23="Catastrófico"),AND(H23="Alta",L23="Catastrófico"),AND(H23="Muy Alta",L23="Catastrófico")),"Extremo","")))) -> Extremo | O23: 1 | P23: El encharcado de Gestión Documental Semestralmente realiza el cambio de contraseña del Drive en donde se almacén la información del área de Gestión Documental | Q23: Realizar una certificación en donde se indique el cambio de contraseña del Drive de Gestión Documental. | R23: Archivo Documental | S23: 46055 | T23: 46374
K24: =IF(NOT(ISERROR(MATCH(J24,_xlfn.ANCHORARRAY(#REF!),0))),#REF!&"Por favor no seleccionar los criterios de impacto",J24) -> 0 | O24: 2 | P24: El encargado del Gestión Documental, el área técnica y el proveedor realizaran la implementación del software de gestión Documental GO3 | Q24: Realizar paulatinamente la parametrización de la información en nuevo software GO3 | R24: Archivo Documental | S24: 46055 | T24: 46374
A25: 14 | B25: Gestión Talento Humano | C25: Económico y Reputacional | D25: Transferir al Archivo Central los documentos en las fechas estipuladas en los cronogramas de transferencia. Demora en el préstamo de Documentos, que se encuentran en el Archivo Central o Histórico. Falta de seguridad en el sitio donde reposan los archivos. Falta de controles efectivos en el proceso de préstamo y custodia de los archivos. Falta de designación de responsable de la custodia y acceso a los archivos. Falta de acceso de elementos informáticos como nubes o discos para respaldar la información de forma digital. | E25: Pérdida o deterioro de la información contenida en las Historias laborales activas del proceso de Gestión de Talento Humano | F25: Fraude Interno | G25: 2 | H25: =IF(G25<=0,"",IF(G25<=2,"Muy Baja",IF(G25<=24,"Baja",IF(G25<=500,"Media",IF(G25<=5000,"Alta","Muy Alta"))))) -> Muy Baja | I25: =IF(H25="","",IF(H25="Muy Baja",0.2,IF(H25="Baja",0.4,IF(H25="Media",0.6,IF(H25="Alta",0.8,IF(H25="Muy Alta",1,)))))) -> 0.2 | J25: Entre 10 y 50 SMLMV | K25: =IF(NOT(ISERROR(MATCH(J25,'[1]Tabla Impacto'!$B$221:$B$223,0))),'[1]Tabla Impacto'!$F$223&"Por favor no seleccionar los criterios de impacto(Afectación Económica o presupuestal y Pérdida Reputacional)",J25) -> Entre 10 y 50 SMLMV | L25: =IF(OR(K25='[1]Tabla Impacto'!$C$11,K25='[1]Tabla Impacto'!$D$11),"Leve",IF(OR(K25='[1]Tabla Impacto'!$C$12,K25='[1]Tabla Impacto'!$D$12),"Menor",IF(OR(K25='[1]Tabla Impacto'!$C$13,K25='[1]Tabla Impacto'!$D$13),"Moderado",IF(OR(K25='[1]Tabla Impacto'!$C$14,K25='[1]Tabla Impacto'!$D$14),"Mayor",IF(OR(K25='[1]Tabla Impacto'!$C$15,K25='[1]Tabla Impacto'!$D$15),"Catastrófico",""))))) -> Menor | M25: =IF(L25="","",IF(L25="Leve",0.2,IF(L25="Menor",0.4,IF(L25="Moderado",0.6,IF(L25="Mayor",0.8,IF(L25="Catastrófico",1,)))))) -> 0.4 | N25: =IF(OR(AND(H25="Muy Baja",L25="Leve"),AND(H25="Muy Baja",L25="Menor"),AND(H25="Baja",L25="Leve")),"Bajo",IF(OR(AND(H25="Muy baja",L25="Moderado"),AND(H25="Baja",L25="Menor"),AND(H25="Baja",L25="Moderado"),AND(H25="Media",L25="Leve"),AND(H25="Media",L25="Menor"),AND(H25="Media",L25="Moderado"),AND(H25="Alta",L25="Leve"),AND(H25="Alta",L25="Menor")),"Moderado",IF(OR(AND(H25="Muy Baja",L25="Mayor"),AND(H25="Baja",L25="Mayor"),AND(H25="Media",L25="Mayor"),AND(H25="Alta",L25="Moderado"),AND(H25="Alta",L25="Mayor"),AND(H25="Muy Alta",L25="Leve"),AND(H25="Muy Alta",L25="Menor"),AND(H25="Muy Alta",L25="Moderado"),AND(H25="Muy Alta",L25="Mayor")),"Alto",IF(OR(AND(H25="Muy Baja",L25="Catastrófico"),AND(H25="Baja",L25="Catastrófico"),AND(H25="Media",L25="Catastrófico"),AND(H25="Alta",L25="Catastrófico"),AND(H25="Muy Alta",L25="Catastrófico")),"Extremo","")))) -> Bajo | O25: 1 | P25: El Jefe de talento humano es el encargado de la custodia y conservación de las historias laborales de los funcionarios y trabajadores oficiales del estado | Q25: Realizar anualmente la revisión de las hojas de vida de los funcionarios y trabajadores oficiales y disponer de un lugar para su almacenamiento. | R25: Jefe de Talento Humano | S25: 46055 | T25: 46374
K26: =IF(NOT(ISERROR(MATCH(J26,_xlfn.ANCHORARRAY(#REF!),0))),#REF!&"Por favor no seleccionar los criterios de impacto",J26) -> 0 | O26: 2 | P26: El Jefe de talento humano realiza la revisión de la documentación del área con el fin de resguardar los registros que permitan la conservación y continuidad del proceso | Q26: Realizar anualmente la revisión de los documentos que se generan el proceso con el fin de generar una copia de seguridad en diferentes medios de almacenamiento | R26: Jefe de Talento Humano | S26: 46055 | T26: 46374
K27: =IF(NOT(ISERROR(MATCH(J27,_xlfn.ANCHORARRAY(#REF!),0))),#REF!&"Por favor no seleccionar los criterios de impacto",J27) -> 0 | O27: 3 | P27: Solicitar el acceso a un disco duro portátil para generar un registro de forma periódica de la información que se genera a través de la nube dispuesta para el proceso, con el fin de llevar back up de seguridad. Este almacenamiento debe quedar tanto en el disco como en el disco duro del equipo asignado a Talento Humano. | Q27: Solicitar por medio de correo electrónico la adquisición de un disco extraíble para almacenar la información generada del área | R27: Jefe de Talento Humano | S27: 46055 | T27: 46374
A28: 15 | B28: Gestión Mejoramiento Continuo | C28: Económico y Reputacional | D28: Posible daño o pérdida de datos en el drive que afecta la integridad de la información del SIG. Ausencia de copias de seguridad del drive del SIG Falta de mantenimiento de los equipos de computo | E28: Posibilidad de Uso indebido de la información generada en el drive del SIG. | F28: Ejecución y Administración de procesos | G28: 24 | H28: =IF(G28<=0,"",IF(G28<=2,"Muy Baja",IF(G28<=24,"Baja",IF(G28<=500,"Media",IF(G28<=5000,"Alta","Muy Alta"))))) -> Baja | I28: =IF(H28="","",IF(H28="Muy Baja",0.2,IF(H28="Baja",0.4,IF(H28="Media",0.6,IF(H28="Alta",0.8,IF(H28="Muy Alta",1,)))))) -> 0.4 | J28: El riesgo afecta la imagen de de la entidad con efecto publicitario sostenido a nivel de sector administrativo, nivel departamental o municipal | K28: =IF(NOT(ISERROR(MATCH(J28,'[1]Tabla Impacto'!$B$221:$B$223,0))),'[1]Tabla Impacto'!$F$223&"Por favor no seleccionar los criterios de impacto(Afectación Económica o presupuestal y Pérdida Reputacional)",J28) -> El riesgo afecta la imagen de de la entidad con efecto publicitario sostenido a nivel de sector administrativo, nivel departamental o municipal | L28: =IF(OR(K28='[1]Tabla Impacto'!$C$11,K28='[1]Tabla Impacto'!$D$11),"Leve",IF(OR(K28='[1]Tabla Impacto'!$C$12,K28='[1]Tabla Impacto'!$D$12),"Menor",IF(OR(K28='[1]Tabla Impacto'!$C$13,K28='[1]Tabla Impacto'!$D$13),"Moderado",IF(OR(K28='[1]Tabla Impacto'!$C$14,K28='[1]Tabla Impacto'!$D$14),"Mayor",IF(OR(K28='[1]Tabla Impacto'!$C$15,K28='[1]Tabla Impacto'!$D$15),"Catastrófico",""))))) -> Mayor | M28: =IF(L28="","",IF(L28="Leve",0.2,IF(L28="Menor",0.4,IF(L28="Moderado",0.6,IF(L28="Mayor",0.8,IF(L28="Catastrófico",1,)))))) -> 0.8 | N28: =IF(OR(AND(H28="Muy Baja",L28="Leve"),AND(H28="Muy Baja",L28="Menor"),AND(H28="Baja",L28="Leve")),"Bajo",IF(OR(AND(H28="Muy baja",L28="Moderado"),AND(H28="Baja",L28="Menor"),AND(H28="Baja",L28="Moderado"),AND(H28="Media",L28="Leve"),AND(H28="Media",L28="Menor"),AND(H28="Media",L28="Moderado"),AND(H28="Alta",L28="Leve"),AND(H28="Alta",L28="Menor")),"Moderado",IF(OR(AND(H28="Muy Baja",L28="Mayor"),AND(H28="Baja",L28="Mayor"),AND(H28="Media",L28="Mayor"),AND(H28="Alta",L28="Moderado"),AND(H28="Alta",L28="Mayor"),AND(H28="Muy Alta",L28="Leve"),AND(H28="Muy Alta",L28="Menor"),AND(H28="Muy Alta",L28="Moderado"),AND(H28="Muy Alta",L28="Mayor")),"Alto",IF(OR(AND(H28="Muy Baja",L28="Catastrófico"),AND(H28="Baja",L28="Catastrófico"),AND(H28="Media",L28="Catastrófico"),AND(H28="Alta",L28="Catastrófico"),AND(H28="Muy Alta",L28="Catastrófico")),"Extremo","")))) -> Alto | O28: 1 | P28: El encargado de mejoramiento continuo establecerá con el área técnica mecanismos para salvaguardar la información mensualmente. y así mismo solicitar espacio en el DRIVE o en la nube del PC de mejoramiento continuo cada vez que se requiera | Q28: Realizar mensualmente copias de seguridad del drive del SIG | R28: Encargada de Mejoramiento Continuo | S28: 46055 | T28: 46374
A29: 16 | S29: 45691 | T29: 46006 | U29: 45777 | V29: En proceso
S30: 45691 | T30: 46006 | U30: 45777 | V30: En proceso
R31: Encargada de Comercialización y ventas | S31: 45691 | T31: 46006 | U31: 45777 | V31: En proceso
S32: 45691 | T32: 46006 | U32: 45777 | V32: En proceso
S33: 45691 | T33: 46006 | U33: 45777 | V33: En proceso
S34: 45691 | T34: 46006 | U34: 45777 | V34: En proceso
A35: 17 | S35: 45691 | T35: 46006 | U35: 45777 | V35: En proceso
S36: 45691 | T36: 46006 | U36: 45777 | V36: En proceso
R37: Encargada de Programación | S37: 45691 | T37: 46006 | U37: 45777 | V37: En proceso
S38: 45691 | T38: 46006 | U38: 45777 | V38: En proceso
S39: 45691 | T39: 46006 | U39: 45777 | V39: En proceso
S40: 45691 | T40: 46006 | U40: 45777 | V40: En proceso
A41: 18 | S41: 45691 | T41: 46006 | U41: 45777 | V41: En proceso
...

Sheet Matriz Calor Inherente 
B2: Matriz de Calor Inherente | J2: Impacto
B6: Probabilidad | E6: Muy Alta 100% | J6: =+IF(AND('Mapa de Riesgos'!$H$7="Muy Alta",'Mapa de Riesgos'!$L$7="Leve"),CONCATENATE("R",'Mapa de Riesgos'!$A$7),"") | K6: =+IF(AND('Mapa de Riesgos'!$H$17="Muy Alta",'Mapa de Riesgos'!$L$17="Leve"),CONCATENATE("R",'Mapa de Riesgos'!$A$17),"") | L6: =+IF(AND('Mapa de Riesgos'!$H$35="Muy Alta",'Mapa de Riesgos'!$L$35="Leve"),CONCATENATE("R",'Mapa de Riesgos'!$A$35),"") | M6: =+IF(AND('Mapa de Riesgos'!$H$83="Muy Alta",'Mapa de Riesgos'!$L$83="Leve"),CONCATENATE("R",'Mapa de Riesgos'!$A$83),"") | N6: =+IF(AND('Mapa de Riesgos'!$H$131="Muy Alta",'Mapa de Riesgos'!$L$131="Leve"),CONCATENATE("R",'Mapa de Riesgos'!$A$131),"") | O6: =+IF(AND('Mapa de Riesgos'!$H$7="Muy Alta",'Mapa de Riesgos'!$L$7="Menor"),CONCATENATE("R",'Mapa de Riesgos'!$A$7),"") | P6: =+IF(AND('Mapa de Riesgos'!$H$17="Muy Alta",'Mapa de Riesgos'!$L$17="Menor"),CONCATENATE("R",'Mapa de Riesgos'!$A$17),"") | Q6: =+IF(AND('Mapa de Riesgos'!$H$35="Muy Alta",'Mapa de Riesgos'!$L$35="Menor"),CONCATENATE("R",'Mapa de Riesgos'!$A$35),"") | R6: =+IF(AND('Mapa de Riesgos'!$H$83="Muy Alta",'Mapa de Riesgos'!$L$83="Menor"),CONCATENATE("R",'Mapa de Riesgos'!$A$83),"") | S6: =+IF(AND('Mapa de Riesgos'!$H$131="Muy Alta",'Mapa de Riesgos'!$L$131="Menor"),CONCATENATE("R",'Mapa de Riesgos'!$A$131),"") | T6: =+IF(AND('Mapa de Riesgos'!$H$7="Muy Alta",'Mapa de Riesgos'!$L$7="Moderado"),CONCATENATE("R",'Mapa de Riesgos'!$A$7),"") | U6: =+IF(AND('Mapa de Riesgos'!$H$17="Muy Alta",'Mapa de Riesgos'!$L$17="Moderado"),CONCATENATE("R",'Mapa de Riesgos'!$A$17),"") | V6: =+IF(AND('Mapa de Riesgos'!$H$35="Muy Alta",'Mapa de Riesgos'!$L$35="Moderado"),CONCATENATE("R",'Mapa de Riesgos'!$A$35),"") | W6: =+IF(AND('Mapa de Riesgos'!$H$83="Muy Alta",'Mapa de Riesgos'!$L$83="Moderado"),CONCATENATE("R",'Mapa de Riesgos'!$A$83),"") | X6: =+IF(AND('Mapa de Riesgos'!$H$131="Muy Alta",'Mapa de Riesgos'!$L$131="Moderado"),CONCATENATE("R",'Mapa de Riesgos'!$A$131),"") | Y6: =+IF(AND('Mapa de Riesgos'!$H$7="Muy Alta",'Mapa de Riesgos'!$L$7="Mayor"),CONCATENATE("R",'Mapa de Riesgos'!$A$7),"") | Z6: =+IF(AND('Mapa de Riesgos'!$H$17="Muy Alta",'Mapa de Riesgos'!$L$17="Mayor"),CONCATENATE("R",'Mapa de Riesgos'!$A$17),"") | AA6: =+IF(AND('Mapa de Riesgos'!$H$35="Muy Alta",'Mapa de Riesgos'!$L$35="Mayor"),CONCATENATE("R",'Mapa de Riesgos'!$A$35),"") | AB6: =+IF(AND('Mapa de Riesgos'!$H$83="Muy Alta",'Mapa de Riesgos'!$L$83="Mayor"),CONCATENATE("R",'Mapa de Riesgos'!$A$83),"") | AC6: =+IF(AND('Mapa de Riesgos'!$H$131="Muy Alta",'Mapa de Riesgos'!$L$131="Mayor"),CONCATENATE("R",'Mapa de Riesgos'!$A$131),"") | AD6: =+IF(AND('Mapa de Riesgos'!$H$7="Muy Alta",'Mapa de Riesgos'!$L$7="Catastrófico"),CONCATENATE("R",'Mapa de Riesgos'!$A$7),"") | AE6: =+IF(AND('Mapa de Riesgos'!$H$17="Muy Alta",'Mapa de Riesgos'!$L$17="Catastrófico"),CONCATENATE("R",'Mapa de Riesgos'!$A$17),"") | AF6: =+IF(AND('Mapa de Riesgos'!$H$35="Muy Alta",'Mapa de Riesgos'!$L$35="Catastrófico"),CONCATENATE("R",'Mapa de Riesgos'!$A$35),"") | AG6: =+IF(AND('Mapa de Riesgos'!$H$83="Muy Alta",'Mapa de Riesgos'!$L$83="Catastrófico"),CONCATENATE("R",'Mapa de Riesgos'!$A$83),"") | AH6: =+IF(AND('Mapa de Riesgos'!$H$131="Muy Alta",'Mapa de Riesgos'!$L$131="Catastrófico"),CONCATENATE("R",'Mapa de Riesgos'!$A$131),"") | AK6: Extremo
