Workbook

Sheet Intructivo  
B2: Matriz Mapa de Riesgos
B4: Teniendo en cuenta que con la expedición del Decreto 1499 de 2017 “Por medio del cual se modifica el Decreto 1083 de 2015, Decreto Único Reglamentario del Sector Función Pública, en lo relacionado con el Sistema de Gestión establecido en el artículo 133 de la Ley 1753 de 2015”, se crea un solo Sistema de Gestión y se alinea con el Sistema de Control Interno, hoy todas las entidades públicas requieren actualizar y/o implementar el Modelo Integrado de Planeación y Gestión MIPG, modelo que incorpora el Modelo Estándar de Control Interno MECI a través de la 7a dimensión del mismo. En este marco general, el proceso de administración del riesgo es un esfuerzo conjunto entre la Alta Dirección y los servidores en todos sus niveles, ejercicio que inicia con la formulación de la política de Administración del Riesgo, la cual incluye los niveles de responsabilidad frente al seguimiento y evaluación, aspectos que deberán definirse acorde con el Esquema de Líneas de Defensa vinculado a la Dimensión 7. Teniendo en cuenta lo anterior y dada la necesidad de las entidades frente a la estructuración de los mapas de riesgos, como herramienta fundamental frente a la gestión del riesgo, el presente formato desarrolla un esquema completo acorde con los contenidos metodológicos de la Guía para la Administración del Riesgo y el diseño de controles V6. El formato cuenta con celdas parametrizadas y permite contar con los respectivos mapas de calor para riesgo inherente y riesgo residual.
B6: Orientaciones Generales
B7: Antes de iniciar con el diligenciamiento de la información en la matriz, se requiere haber avanzado en el análisis del proceso, su objetivo, alcance, actividades clave, considere los lineamientos establecidos en el Paso 2: identificación del riesgo, donde se explica ampliamente las bases para adelanter este análisis. Así mismo, considere en el Paso 3: valoración del riesgo los lineamientos para definir el No. de veces que se hace la actividad con la cual se relaciona el riesgo y su impacto en términos económicos o reputacionales. En este mismo paso se analizan los controles que deben responder a los atributos de eficiencia e informativos. NOTA: Si lo considera pertinente, es posible agregar hojas de trabajo adicionales al presente formato que permitan incluir la traza de estos análisis.
B9: El archivo contiene las siguientes hojas: - Hoja 1 Instructivo - Hoja 2 Contexto: Diligenciar formato Contexto Extratégico -E-PI-MT01-F03 FORMATO MATRIZ DOFA
C13: Columna | E13: Descripción - Lineamientos para el diligenciamiento
C14: Fecha de elaboración | E14: Diligencie la fecha de elaboración de la matriz DOFA
C15: Proceso | E15: Diligencie el nombre del proceso al cual se le identificarán y valorarán los riesgos.
C16: Lider de Proceso | E16: Diligencia el nombre del lider o encargado del proceso
B18: - Hoja 3 Mapa de Riesgos Final: Encontrará la totalidad de la estructura para la identificación y valoración de los riesgos por proceso, acorde con el nivel de desagregación que la entidad considere necesaria.
C19: Columna | E19: Descripción - Lineamientos para el diligenciamiento
C20: Proceso | E20: Diligencie el nombre del proceso al cual se le identificarán y valorarán los riesgos.
C21: Objetivo | E21: Diligencie el objetivo del proceso.
C22: Alcance | E22: Diligencie el alcance del proceso.
C23: Referencia | E23: Permite definir unl consecutivo de riesgos. Una entidad puede ir en el riesgo 150, pero tener 70 riesgos, lo que permite llevar una trazabilidad de los riesgos. Esta información la debe administrar la oficina asesora de planeación o gerencia de riesgos. Cuando un el riesgo salga del mapa no existirá otro riesgo con el mismo número.
C24: Impacto | E24: Analice las consecuencias que puede ocasionar a la organización la materialización del riesgo, redacte de la forma más concreta posible.
C25: Clase de Riesgo | E25: Utilice la lista de despligue que se encuentra parametrizada, le aparecerán las opciones:Riesgos de Gestión; Riesgos de Corrupción; Riesgos de Seguridad de la Información
C26: Causa Raíz | E26: Causa principal o básica, corresponde a las razones por la cuales se puede presentar el riesgo, redacte de la forma más concreta posible.
C27: Descripción del Riesgo | E27: Consolida o resume los análisis sobre impacto + causa inmediata + causa raíz, permitiendo contar con una redacción clara y concreta del riesgo indentificado. Tenga en cuenta la estructura de alto nivel establecida en al guía, inicia con POSIBILIDAD DE + Impacto para la entidad (Qué) + Causa Inmediata (Cómo) + Causa Raíz (Por qué)
C28: Clasificación del Riesgo | E28: Utilice la lista de despligue que se encuentra parametrizada, le aparecerán las opciones: i)Daños Activos Fisicos, ii)Ejecucion y Administracion de procesos, iii)Fallas Tecnologicas, iv)Fraude Externo, v)Fraude Interno, vi)Relaciones Laborales, vii)Usuarios, productos y practicas organizacionales.
C29: Frecuencia con la cual se lleva a cabo la actividad | E29: Defina el # de veces que se ejecuta la actividad durante el año, (Recuerde la probabilidad e ocurrencia del riesgo se defien como el No. de veces que se pasa por el punto de riesgo en el periodo de 1 año). La matriz automáticamente hará el cálculo para el nivel de probabilidad inherente (Columnas H-I)
C30: Criterios de Impacto | E30: Utilice la lista de despligue que se encuentra parametrizada, le aparecerán las opciones de la tabla de Impacto en la Hoja 6 del presente documento. La matriz automáticamente hará el cálculo para el nivel de impacto inherente (Columnas L-M)
... C44: Estado | E44: Utilice la lista de despligue que se encuentra parametrizada, le aparecerán las opciones: i)Finalizado, ii)En curso, la selección en este caso dependerá de las acciones del plan que se hayan establecido en cada caso.
B48: - Hoja 4 Matriz de Calor Inherente: En esta hoja, en la medida en que ese diligencia el Mapa Final, se verán reflejados los riesgos en su zona correspondiente. Esta hoja no se diligencia se genera de manera automática.
B49: - Hoja 5 Matriz de Calor Residual: En esta hoja, en la medida en que ese diligencia el Mapa Final, se verán reflejados los riesgos en su zona correspondiente. Esta hoja no se diligencia se genera de manera automática.
B50: - Hoja 6 Tabla de probabilidad: Tabla referente para todos los cálculos (no se diligencia)
B51: - Hoja 7 Tabla de Impacto: Tabla referente para todos los cálculos (no se diligencia)
B52: - Hoja 8 Tabla de Valoración de Controles: Tabla referente para todos los cálculos (no se diligencia)

Sheet Mapa de Riesgos
D1: MAPA DE RIESGOS DE GESTIÓN 2026 | AQ1: Código: E-PI-MT-04
AQ2: Versión: 04
AQ3: Fecha : 15-04-2024
A4: Identificación del riesgo | H4: Análisis del riesgo inherente | O4: Evaluación del riesgo - Valoración de los controles | X4: Evaluación del riesgo - Nivel del riesgo residual | AE4: Plan de Acción | AK4: Monitoreo: Primer Cuatrimestre- 2a Línea de defensa (Planeación) | AM4: Monitoreo: Segundo Cuatrimestre- 2a Línea de defensa (Planeación) | AO4: Monitoreo: Tercer Cuatrimestre- 2a Línea de defensa (Planeación) | AQ4: Supervisión : Primer Cuatrimestre- 3a Línea de defensa (Jefe de Control Interno )
A5: Referencia | B5: Proceso | C5: Impacto | D5: Causa Raíz | E5: Descripción del Riesgo | F5: Clasificación del Riesgo | G5: Frecuencia con la cual se realiza la actividad | H5: Probabilidad Inherente | I5: % | J5: Criterios de impacto | K5: Observación de criterio | L5: Impacto Inherente | M5: % | N5: Zona de Riesgo Inherente | O5: No. Control | P5: Descripción del Control | Q5: Afectación | R5: Atributos | X5: Probabilidad Residual | Y5: Probabilidad Residual Final | Z5: % | AA5: Impacto Residual Final | AB5: % | AC5: Zona de Riesgo Final | AD5: Tratamiento | AE5: Plan de Acción | AF5: Responsable | AG5: Fecha de inicio | AH5: Fecha de terminación | AI5: Fecha Seguimiento | AJ5: Estado | AK5: Acciones que se realizaron | AL5: Evidencia | AM5: Acciones que se realizaron | AN5: Evidencia | AO5: Acciones que se realizaron | AP5: Evidencia | AQ5: Supervisión de las acciones | AR5: Porcentaje de cumplimiento
R6: Tipo | S6: Implementación | T6: Calificación | U6: Documentación | V6: Frecuencia | W6: Evidencia
A7: 1 | B7: Gestión Planeación Institucional | C7: Reputacional | D7: Demora en la entrega de información por parte de los procesos. Falta de socialización de los tiempos de entrega de información. Falta de seguimiento a las metas establecidas en el PEI Falta de controles para el seguimiento al cumplimiento de las metas del PEI | E7: Posible Incumplimiento en el reporte de avance del Plan Estratégico Institucional del Canal TRO | F7: Ejecución y Administración de procesos | G7: 60 | H7: =IF(G7<=0,"",IF(G7<=2,"Muy Baja",IF(G7<=24,"Baja",IF(G7<=500,"Media",IF(G7<=5000,"Alta","Muy Alta"))))) -> Media | I7: =IF(H7="","",IF(H7="Muy Baja",0.2,IF(H7="Baja",0.4,IF(H7="Media",0.6,IF(H7="Alta",0.8,IF(H7="Muy Alta",1,)))))) -> 0.6 | J7: El riesgo afecta la imagen de la entidad internamente, de conocimiento general, nivel interno, de junta dircetiva y accionistas y/o de provedores | K7: =IF(NOT(ISERROR(MATCH(J7,'Tabla Impacto'!$B$221:$B$223,0))),'Tabla Impacto'!$F$223&"Por favor no seleccionar los criterios de impacto(Afectación Económica o presupuestal y Pérdida Reputacional)",J7) -> El riesgo afecta la imagen de la entidad internamente, de conocimiento general, nivel interno, de junta dircetiva y accionistas y/o de provedores | L7: =IF(OR(K7='Tabla Impacto'!$C$11,K7='Tabla Impacto'!$D$11),"Leve",IF(OR(K7='Tabla Impacto'!$C$12,K7='Tabla Impacto'!$D$12),"Menor",IF(OR(K7='Tabla Impacto'!$C$13,K7='Tabla Impacto'!$D$13),"Moderado",IF(OR(K7='Tabla Impacto'!$C$14,K7='Tabla Impacto'!$D$14),"Mayor",IF(OR(K7='Tabla Impacto'!$C$15,K7='Tabla Impacto'!$D$15),"Catastrófico",""))))) -> Menor | M7: =IF(L7="","",IF(L7="Leve",0.2,IF(L7="Menor",0.4,IF(L7="Moderado",0.6,IF(L7="Mayor",0.8,IF(L7="Catastrófico",1,)))))) -> 0.4 | N7: =IF(OR(AND(H7="Muy Baja",L7="Leve"),AND(H7="Muy Baja",L7="Menor"),AND(H7="Baja",L7="Leve")),"Bajo",IF(OR(AND(H7="Muy baja",L7="Moderado"),AND(H7="Baja",L7="Menor"),AND(H7="Baja",L7="Moderado"),AND(H7="Media",L7="Leve"),AND(H7="Media",L7="Menor"),AND(H7="Media",L7="Moderado"),AND(H7="Alta",L7="Leve"),AND(H7="Alta",L7="Menor")),"Moderado",IF(OR(AND(H7="Muy Baja",L7="Mayor"),AND(H7="Baja",L7="Mayor"),AND(H7="Media",L7="Mayor"),AND(H7="Alta",L7="Moderado"),AND(H7="Alta",L7="Mayor"),AND(H7="Muy Alta",L7="Leve"),AND(H7="Muy Alta",L7="Menor"),AND(H7="Muy Alta",L7="Moderado"),AND(H7="Muy Alta",L7="Mayor")),"Alto",IF(OR(AND(H7="Muy Baja",L7="Catastrófico"),AND(H7="Baja",L7="Catastrófico"),AND(H7="Media",L7="Catastrófico"),AND(H7="Alta",L7="Catastrófico"),AND(H7="Muy Alta",L7="Catastrófico")),"Extremo","")))) -> Moderado | O7: 1 | P7: El encargado del proceso realiza trimestralmente el envío de un correo a todos los líderes solicitando el seguimiento de los objetivos estratégicos del PEI (Plan Estratégico Institucional). Además, presenta el porcentaje de ejecución ante el Comité Institucional de Gestión y Desempeño, el cual queda registrado en las actas institucionales. Trimestralmente, se entrega un informe de seguimiento (E-PI-P03-FO1 Formato Seguimiento PEI - PAI) a Control Interno, detallando el porcentaje de cumplimiento. | Q7: =IF(OR(R7="Preventivo",R7="Detectivo"),"Probabilidad",IF(R7="Correctivo","Impacto","")) -> Probabilidad | R7: Preventivo | S7: Manual | T7: =IF(AND(R7="Preventivo",S7="Automático"),"50%",IF(AND(R7="Preventivo",S7="Manual"),"40%",IF(AND(R7="Detectivo",S7="Automático"),"40%",IF(AND(R7="Detectivo",S7="Manual"),"30%",IF(AND(R7="Correctivo",S7="Automático"),"35%",IF(AND(R7="Correctivo",S7="Manual"),"25%","")))))) -> 40% | U7: Documentado | V7: Continua | W7: Con Registro | X7: =IFERROR(IF(Q7="Probabilidad",(I7-(+I7*T7)),IF(Q7="Impacto",I7,"")),"") -> 0.36 | Y7: =IFERROR(IF(X7="","",IF(X7<=0.2,"Muy Baja",IF(X7<=0.4,"Baja",IF(X7<=0.6,"Media",IF(X7<=0.8,"Alta","Muy Alta"))))),"") -> Baja | Z7: =+X7 -> 0.36 | AA7: =IFERROR(IF(AB7="","",IF(AB7<=0.2,"Leve",IF(AB7<=0.4,"Menor",IF(AB7<=0.6,"Moderado",IF(AB7<=0.8,"Mayor","Catastrófico"))))),"") -> Menor | AB7: =IFERROR(IF(Q7="Impacto",(M7-(+M7*T7)),IF(Q7="Probabilidad",M7,"")),"") -> 0.4 | AC7: =IFERROR(IF(OR(AND(Y7="Muy Baja",AA7="Leve"),AND(Y7="Muy Baja",AA7="Menor"),AND(Y7="Baja",AA7="Leve")),"Bajo",IF(OR(AND(Y7="Muy baja",AA7="Moderado"),AND(Y7="Baja",AA7="Menor"),AND(Y7="Baja",AA7="Moderado"),AND(Y7="Media",AA7="Leve"),AND(Y7="Media",AA7="Menor"),AND(Y7="Media",AA7="Moderado"),AND(Y7="Alta",AA7="Leve"),AND(Y7="Alta",AA7="Menor")),"Moderado",IF(OR(AND(Y7="Muy Baja",AA7="Mayor"),AND(Y7="Baja",AA7="Mayor"),AND(Y7="Media",AA7="Mayor"),AND(Y7="Alta",AA7="Moderado"),AND(Y7="Alta",AA7="Mayor"),AND(Y7="Muy Alta",AA7="Leve"),AND(Y7="Muy Alta",AA7="Menor"),AND(Y7="Muy Alta",AA7="Moderado"),AND(Y7="Muy Alta",AA7="Mayor")),"Alto",IF(OR(AND(Y7="Muy Baja",AA7="Catastrófico"),AND(Y7="Baja",AA7="Catastrófico"),AND(Y7="Media",AA7="Catastrófico"),AND(Y7="Alta",AA7="Catastrófico"),AND(Y7="Muy Alta",AA7="Catastrófico")),"Extremo","")))),"") -> Moderado | AD7: Reducir (mitigar) | AE7: Enviar trimestralmente un correo institucional a los líderes de procesos solicitando el seguimiento del Plan Estratégico Institucional (PEI). | AF7: Encargado del área de Planeación | AG7: 46055 | AH7: 46374
K8: =IF(NOT(ISERROR(MATCH(J8,_xlfn.ANCHORARRAY(E15),0))),#REF!&"Por favor no seleccionar los criterios de impacto",J8) -> 0 | O8: 2 | Q8: =IF(OR(R8="Preventivo",R8="Detectivo"),"Probabilidad",IF(R8="Correctivo","Impacto","")) | AE8: Informar por correo electrónico a la Jefe de Control Interno y al Comité Institucional de Gestión y Desempeño sobre cualquier incumplimiento en la entrega de información | AF8: Encargada del área de Planeación | AG8: 46055 | AH8: 46374
A9: 2 | B9: Gestión Planeación Institucional | C9: Reputacional | D9: Demora en la entrega de información por parte de los productores externos. Falta de control de información por parte de los proveedores ajenos a la entidad Rotación de personal en los puestos de control y seguimiento lo que genera retrasos en la entrega de información. Falta de socialización en la entrega de información con los procesos internos. | E9: Posible Fallas en la ejecución y seguimiento del plan de inversión y proyectos adicionales. | F9: Ejecución y Administración de procesos | G9: 40 | H9: =IF(G9<=0,"",IF(G9<=2,"Muy Baja",IF(G9<=24,"Baja",IF(G9<=500,"Media",IF(G9<=5000,"Alta","Muy Alta"))))) -> Media | I9: =IF(H9="","",IF(H9="Muy Baja",0.2,IF(H9="Baja",0.4,IF(H9="Media",0.6,IF(H9="Alta",0.8,IF(H9="Muy Alta",1,)))))) -> 0.6 | J9: El riesgo afecta la imagen de la entidad con algunos usuarios de relevancia frente al logro de los objetivos | K9: =IF(NOT(ISERROR(MATCH(J9,'Tabla Impacto'!$B$221:$B$223,0))),'Tabla Impacto'!$F$223&"Por favor no seleccionar los criterios de impacto(Afectación Económica o presupuestal y Pérdida Reputacional)",J9) -> El riesgo afecta la imagen de la entidad con algunos usuarios de relevancia frente al logro de los objetivos | L9: =IF(OR(K9='Tabla Impacto'!$C$11,K9='Tabla Impacto'!$D$11),"Leve",IF(OR(K9='Tabla Impacto'!$C$12,K9='Tabla Impacto'!$D$12),"Menor",IF(OR(K9='Tabla Impacto'!$C$13,K9='Tabla Impacto'!$D$13),"Moderado",IF(OR(K9='Tabla Impacto'!$C$14,K9='Tabla Impacto'!$D$14),"Mayor",IF(OR(K9='Tabla Impacto'!$C$15,K9='Tabla Impacto'!$D$15),"Catastrófico",""))))) -> Moderado | M9: =IF(L9="","",IF(L9="Leve",0.2,IF(L9="Menor",0.4,IF(L9="Moderado",0.6,IF(L9="Mayor",0.8,IF(L9="Catastrófico",1,)))))) -> 0.6 | N9: =IF(OR(AND(H9="Muy Baja",L9="Leve"),AND(H9="Muy Baja",L9="Menor"),AND(H9="Baja",L9="Leve")),"Bajo",IF(OR(AND(H9="Muy baja",L9="Moderado"),AND(H9="Baja",L9="Menor"),AND(H9="Baja",L9="Moderado"),AND(H9="Media",L9="Leve"),AND(H9="Media",L9="Menor"),AND(H9="Media",L9="Moderado"),AND(H9="Alta",L9="Leve"),AND(H9="Alta",L9="Menor")),"Moderado",IF(OR(AND(H9="Muy Baja",L9="Mayor"),AND(H9="Baja",L9="Mayor"),AND(H9="Media",L9="Mayor"),AND(H9="Alta",L9="Moderado"),AND(H9="Alta",L9="Mayor"),AND(H9="Muy Alta",L9="Leve"),AND(H9="Muy Alta",L9="Menor"),AND(H9="Muy Alta",L9="Moderado"),AND(H9="Muy Alta",L9="Mayor")),"Alto",IF(OR(AND(H9="Muy Baja",L9="Catastrófico"),AND(H9="Baja",L9="Catastrófico"),AND(H9="Media",L9="Catastrófico"),AND(H9="Alta",L9="Catastrófico"),AND(H9="Muy Alta",L9="Catastrófico")),"Extremo","")))) -> Moderado | O9: 1 | P9: La encargada de Proyectos realiza tres informes que se deben presentar al MINTIC denominados de la siguiente manera: Informes de actividades mensuales los primeros cinco días hábiles de cada mes, Informe de legalizaciones de manera trimestral, Informe de ejecución (trimestral). De igual forma se reciben Visitas de seguimiento a la ejecución (se atienden dos visitas al año) y Reuniones quincenales de seguimiento con la persona encargada del MINTIC, para conocer avances en la ejecución . | Q9: =IF(OR(R9="Preventivo",R9="Detectivo"),"Probabilidad",IF(R9="Correctivo","Impacto","")) -> Probabilidad | R9: Preventivo | S9: Manual | T9: =IF(AND(R9="Preventivo",S9="Automático"),"50%",IF(AND(R9="Preventivo",S9="Manual"),"40%",IF(AND(R9="Detectivo",S9="Automático"),"40%",IF(AND(R9="Detectivo",S9="Manual"),"30%",IF(AND(R9="Correctivo",S9="Automático"),"35%",IF(AND(R9="Correctivo",S9="Manual"),"25%","")))))) -> 40% | U9: Documentado | V9: Continua | W9: Con Registro | X9: =IFERROR(IF(Q9="Probabilidad",(I9-(+I9*T9)),IF(Q9="Impacto",I9,"")),"") -> 0.36 | Y9: =IFERROR(IF(X9="","",IF(X9<=0.2,"Muy Baja",IF(X9<=0.4,"Baja",IF(X9<=0.6,"Media",IF(X9<=0.8,"Alta","Muy Alta"))))),"") -> Baja | Z9: =+X9 -> 0.36 | AA9: =IFERROR(IF(AB9="","",IF(AB9<=0.2,"Leve",IF(AB9<=0.4,"Menor",IF(AB9<=0.6,"Moderado",IF(AB9<=0.8,"Mayor","Catastrófico"))))),"") -> Moderado | AB9: =IFERROR(IF(Q9="Impacto",(M9-(+M9*T9)),IF(Q9="Probabilidad",M9,"")),"") -> 0.6 | AC9: =IFERROR(IF(OR(AND(Y9="Muy Baja",AA9="Leve"),AND(Y9="Muy Baja",AA9="Menor"),AND(Y9="Baja",AA9="Leve")),"Bajo",IF(OR(AND(Y9="Muy baja",AA9="Moderado"),AND(Y9="Baja",AA9="Menor"),AND(Y9="Baja",AA9="Moderado"),AND(Y9="Media",AA9="Leve"),AND(Y9="Media",AA9="Menor"),AND(Y9="Media",AA9="Moderado"),AND(Y9="Alta",AA9="Leve"),AND(Y9="Alta",AA9="Menor")),"Moderado",IF(OR(AND(Y9="Muy Baja",AA9="Mayor"),AND(Y9="Baja",AA9="Mayor"),AND(Y9="Media",AA9="Mayor"),AND(Y9="Alta",AA9="Moderado"),AND(Y9="Alta",AA9="Mayor"),AND(Y9="Muy Alta",AA9="Leve"),AND(Y9="Muy Alta",AA9="Menor"),AND(Y9="Muy Alta",AA9="Moderado"),AND(Y9="Muy Alta",AA9="Mayor")),"Alto",IF(OR(AND(Y9="Muy Baja",AA9="Catastrófico"),AND(Y9="Baja",AA9="Catastrófico"),AND(Y9="Media",AA9="Catastrófico"),AND(Y9="Alta",AA9="Catastrófico"),AND(Y9="Muy Alta",AA9="Catastrófico")),"Extremo","")))),"") -> Moderado | AD9: Evitar | AE9: Preparar y presentar informes detallados de actividades mensuales dentro de los primeros cinco días hábiles de cada mes. | AF9: Encagada de proyectos | AG9: 46055 | AH9: 46374
K10: =IF(NOT(ISERROR(MATCH(J10,_xlfn.ANCHORARRAY(E17),0))),#REF!&"Por favor no seleccionar los criterios de impacto",J10) -> 0 | O10: 2 | AE10: Generar informes de legalizaciones de manera trimestral para su presentación al MINTIC. | AF10: Encagada de proyectos | AG10: 46055 | AH10: 46374
K11: =IF(NOT(ISERROR(MATCH(J11,_xlfn.ANCHORARRAY(E18),0))),#REF!&"Por favor no seleccionar los criterios de impacto",J11) -> 0 | O11: 3 | Q11: =IF(OR(R11="Preventivo",R11="Detectivo"),"Probabilidad",IF(R11="Correctivo","Impacto","")) | T11: =IF(AND(R11="Preventivo",S11="Automático"),"50%",IF(AND(R11="Preventivo",S11="Manual"),"40%",IF(AND(R11="Detectivo",S11="Automático"),"40%",IF(AND(R11="Detectivo",S11="Manual"),"30%",IF(AND(R11="Correctivo",S11="Automático"),"35%",IF(AND(R11="Correctivo",S11="Manual"),"25%","")))))) | X11: =IFERROR(IF(AND(Q10="Probabilidad",Q11="Probabilidad"),(Z10-(+Z10*T11)),IF(AND(Q10="Impacto",Q11="Probabilidad"),(Z9-(+Z9*T11)),IF(Q11="Impacto",Z10,""))),"") | Y11: =IFERROR(IF(X11="","",IF(X11<=0.2,"Muy Baja",IF(X11<=0.4,"Baja",IF(X11<=0.6,"Media",IF(X11<=0.8,"Alta","Muy Alta"))))),"") | Z11: =+X11 | AA11: =IFERROR(IF(AB11="","",IF(AB11<=0.2,"Leve",IF(AB11<=0.4,"Menor",IF(AB11<=0.6,"Moderado",IF(AB11<=0.8,"Mayor","Catastrófico"))))),"") | AB11: =IFERROR(IF(AND(Q10="Impacto",Q11="Impacto"),(AB10-(+AB10*T11)),IF(AND(Q10="Probabilidad",Q11="Impacto"),(AB9-(+AB9*T11)),IF(Q11="Probabilidad",AB10,""))),"") | AC11: =IFERROR(IF(OR(AND(Y11="Muy Baja",AA11="Leve"),AND(Y11="Muy Baja",AA11="Menor"),AND(Y11="Baja",AA11="Leve")),"Bajo",IF(OR(AND(Y11="Muy baja",AA11="Moderado"),AND(Y11="Baja",AA11="Menor"),AND(Y11="Baja",AA11="Moderado"),AND(Y11="Media",AA11="Leve"),AND(Y11="Media",AA11="Menor"),AND(Y11="Media",AA11="Moderado"),AND(Y11="Alta",AA11="Leve"),AND(Y11="Alta",AA11="Menor")),"Moderado",IF(OR(AND(Y11="Muy Baja",AA11="Mayor"),AND(Y11="Baja",AA11="Mayor"),AND(Y11="Media",AA11="Mayor"),AND(Y11="Alta",AA11="Moderado"),AND(Y11="Alta",AA11="Mayor"),AND(Y11="Muy Alta",AA11="Leve"),AND(Y11="Muy Alta",AA11="Menor"),AND(Y11="Muy Alta",AA11="Moderado"),AND(Y11="Muy Alta",AA11="Mayor")),"Alto",IF(OR(AND(Y11="Muy Baja",AA11="Catastrófico"),AND(Y11="Baja",AA11="Catastrófico"),AND(Y11="Media",AA11="Catastrófico"),AND(Y11="Alta",AA11="Catastrófico"),AND(Y11="Muy Alta",AA11="Catastrófico")),"Extremo","")))),"") | AE11: Elaborar informes trimestrales de ejecución que reflejen el progreso y los resultados alcanzados en el proyecto. | AF11: Encagada de proyectos | AG11: 46055 | AH11: 46374
K12: =IF(NOT(ISERROR(MATCH(J12,_xlfn.ANCHORARRAY(#REF!),0))),#REF!&"Por favor no seleccionar los criterios de impacto",J12) -> 0 | O12: 4 | Q12: =IF(OR(R12="Preventivo",R12="Detectivo"),"Probabilidad",IF(R12="Correctivo","Impacto","")) | T12: =IF(AND(R12="Preventivo",S12="Automático"),"50%",IF(AND(R12="Preventivo",S12="Manual"),"40%",IF(AND(R12="Detectivo",S12="Automático"),"40%",IF(AND(R12="Detectivo",S12="Manual"),"30%",IF(AND(R12="Correctivo",S12="Automático"),"35%",IF(AND(R12="Correctivo",S12="Manual"),"25%","")))))) | X12: =IFERROR(IF(AND(Q11="Probabilidad",Q12="Probabilidad"),(Z11-(+Z11*T12)),IF(AND(Q11="Impacto",Q12="Probabilidad"),(Z10-(+Z10*T12)),IF(Q12="Impacto",Z11,""))),"") | Y12: =IFERROR(IF(X12="","",IF(X12<=0.2,"Muy Baja",IF(X12<=0.4,"Baja",IF(X12<=0.6,"Media",IF(X12<=0.8,"Alta","Muy Alta"))))),"") | Z12: =+X12 | AA12: =IFERROR(IF(AB12="","",IF(AB12<=0.2,"Leve",IF(AB12<=0.4,"Menor",IF(AB12<=0.6,"Moderado",IF(AB12<=0.8,"Mayor","Catastrófico"))))),"") | AB12: =IFERROR(IF(AND(Q11="Impacto",Q12="Impacto"),(AB11-(+AB11*T12)),IF(AND(Q11="Probabilidad",Q12="Impacto"),(AB10-(+AB10*T12)),IF(Q12="Probabilidad",AB11,""))),"") | AC12: =IFERROR(IF(OR(AND(Y12="Muy Baja",AA12="Leve"),AND(Y12="Muy Baja",AA12="Menor"),AND(Y12="Baja",AA12="Leve")),"Bajo",IF(OR(AND(Y12="Muy baja",AA12="Moderado"),AND(Y12="Baja",AA12="Menor"),AND(Y12="Baja",AA12="Moderado"),AND(Y12="Media",AA12="Leve"),AND(Y12="Media",AA12="Menor"),AND(Y12="Media",AA12="Moderado"),AND(Y12="Alta",AA12="Leve"),AND(Y12="Alta",AA12="Menor")),"Moderado",IF(OR(AND(Y12="Muy Baja",AA12="Mayor"),AND(Y12="Baja",AA12="Mayor"),AND(Y12="Media",AA12="Mayor"),AND(Y12="Alta",AA12="Moderado"),AND(Y12="Alta",AA12="Mayor"),AND(Y12="Muy Alta",AA12="Leve"),AND(Y12="Muy Alta",AA12="Menor"),AND(Y12="Muy Alta",AA12="Moderado"),AND(Y12="Muy Alta",AA12="Mayor")),"Alto",IF(OR(AND(Y12="Muy Baja",AA12="Catastrófico"),AND(Y12="Baja",AA12="Catastrófico"),AND(Y12="Media",AA12="Catastrófico"),AND(Y12="Alta",AA12="Catastrófico"),AND(Y12="Muy Alta",AA12="Catastrófico")),"Extremo","")))),"") | AE12: Coordinar y recibir dos visitas de seguimiento anuales para evaluar el avance y la efectividad de la ejecución del proyecto. | AF12: Encagada de proyectos | AG12: 46055 | AH12: 46374
K13: =IF(NOT(ISERROR(MATCH(J13,_xlfn.ANCHORARRAY(#REF!),0))),#REF!&"Por favor no seleccionar los criterios de impacto",J13) -> 0 | O13: 5 | Q13: =IF(OR(R13="Preventivo",R13="Detectivo"),"Probabilidad",IF(R13="Correctivo","Impacto","")) | T13: =IF(AND(R13="Preventivo",S13="Automático"),"50%",IF(AND(R13="Preventivo",S13="Manual"),"40%",IF(AND(R13="Detectivo",S13="Automático"),"40%",IF(AND(R13="Detectivo",S13="Manual"),"30%",IF(AND(R13="Correctivo",S13="Automático"),"35%",IF(AND(R13="Correctivo",S13="Manual"),"25%","")))))) | X13: =IFERROR(IF(AND(Q12="Probabilidad",Q13="Probabilidad"),(Z12-(+Z12*T13)),IF(AND(Q12="Impacto",Q13="Probabilidad"),(Z11-(+Z11*T13)),IF(Q13="Impacto",Z12,""))),"") | Y13: =IFERROR(IF(X13="","",IF(X13<=0.2,"Muy Baja",IF(X13<=0.4,"Baja",IF(X13<=0.6,"Media",IF(X13<=0.8,"Alta","Muy Alta"))))),"") | Z13: =+X13 | AA13: =IFERROR(IF(AB13="","",IF(AB13<=0.2,"Leve",IF(AB13<=0.4,"Menor",IF(AB13<=0.6,"Moderado",IF(AB13<=0.8,"Mayor","Catastrófico"))))),"") | AB13: =IFERROR(IF(AND(Q12="Impacto",Q13="Impacto"),(AB12-(+AB12*T13)),IF(AND(Q12="Probabilidad",Q13="Impacto"),(AB11-(+AB11*T13)),IF(Q13="Probabilidad",AB12,""))),"") | AC13: =IFERROR(IF(OR(AND(Y13="Muy Baja",AA13="Leve"),AND(Y13="Muy Baja",AA13="Menor"),AND(Y13="Baja",AA13="Leve")),"Bajo",IF(OR(AND(Y13="Muy baja",AA13="Moderado"),AND(Y13="Baja",AA13="Menor"),AND(Y13="Baja",AA13="Moderado"),AND(Y13="Media",AA13="Leve"),AND(Y13="Media",AA13="Menor"),AND(Y13="Media",AA13="Moderado"),AND(Y13="Alta",AA13="Leve"),AND(Y13="Alta",AA13="Menor")),"Moderado",IF(OR(AND(Y13="Muy Baja",AA13="Mayor"),AND(Y13="Baja",AA13="Mayor"),AND(Y13="Media",AA13="Mayor"),AND(Y13="Alta",AA13="Moderado"),AND(Y13="Alta",AA13="Mayor"),AND(Y13="Muy Alta",AA13="Leve"),AND(Y13="Muy Alta",AA13="Menor"),AND(Y13="Muy Alta",AA13="Moderado"),AND(Y13="Muy Alta",AA13="Mayor")),"Alto",IF(OR(AND(Y13="Muy Baja",AA13="Catastrófico"),AND(Y13="Baja",AA13="Catastrófico"),AND(Y13="Media",AA13="Catastrófico"),AND(Y13="Alta",AA13="Catastrófico"),AND(Y13="Muy Alta",AA13="Catastrófico")),"Extremo","")))),"") | AE13: Participar activamente en reuniones quincenales de seguimiento con el representante designado del MINTIC para informar sobre los avances y discutir posibles acciones correctivas o mejoras en el proceso de ejecución. | AF13: Encagada de proyectos | AG13: 46055 | AH13: 46374
K14: =IF(NOT(ISERROR(MATCH(J14,_xlfn.ANCHORARRAY(#REF!),0))),I19&"Por favor no seleccionar los criterios de impacto",J14) -> 0 | O14: 6 | Q14: =IF(OR(R14="Preventivo",R14="Detectivo"),"Probabilidad",IF(R14="Correctivo","Impacto","")) | T14: =IF(AND(R14="Preventivo",S14="Automático"),"50%",IF(AND(R14="Preventivo",S14="Manual"),"40%",IF(AND(R14="Detectivo",S14="Automático"),"40%",IF(AND(R14="Detectivo",S14="Manual"),"30%",IF(AND(R14="Correctivo",S14="Automático"),"35%",IF(AND(R14="Correctivo",S14="Manual"),"25%","")))))) | X14: =IFERROR(IF(AND(Q13="Probabilidad",Q14="Probabilidad"),(Z13-(+Z13*T14)),IF(AND(Q13="Impacto",Q14="Probabilidad"),(Z12-(+Z12*T14)),IF(Q14="Impacto",Z13,""))),"") | Y14: =IFERROR(IF(X14="","",IF(X14<=0.2,"Muy Baja",IF(X14<=0.4,"Baja",IF(X14<=0.6,"Media",IF(X14<=0.8,"Alta","Muy Alta"))))),"") | Z14: =+X14 | AA14: =IFERROR(IF(AB14="","",IF(AB14<=0.2,"Leve",IF(AB14<=0.4,"Menor",IF(AB14<=0.6,"Moderado",IF(AB14<=0.8,"Mayor","Catastrófico"))))),"") | AB14: =IFERROR(IF(AND(Q13="Impacto",Q14="Impacto"),(AB13-(+AB13*T14)),IF(AND(Q13="Probabilidad",Q14="Impacto"),(AB12-(+AB12*T14)),IF(Q14="Probabilidad",AB13,""))),"") | AC14: =IFERROR(IF(OR(AND(Y14="Muy Baja",AA14="Leve"),AND(Y14="Muy Baja",AA14="Menor"),AND(Y14="Baja",AA14="Leve")),"Bajo",IF(OR(AND(Y14="Muy baja",AA14="Moderado"),AND(Y14="Baja",AA14="Menor"),AND(Y14="Baja",AA14="Moderado"),AND(Y14="Media",AA14="Leve"),AND(Y14="Media",AA14="Menor"),AND(Y14="Media",AA14="Moderado"),AND(Y14="Alta",AA14="Leve"),AND(Y14="Alta",AA14="Menor")),"Moderado",IF(OR(AND(Y14="Muy Baja",AA14="Mayor"),AND(Y14="Baja",AA14="Mayor"),AND(Y14="Media",AA14="Mayor"),AND(Y14="Alta",AA14="Moderado"),AND(Y14="Alta",AA14="Mayor"),AND(Y14="Muy Alta",AA14="Leve"),AND(Y14="Muy Alta",AA14="Menor"),AND(Y14="Muy Alta",AA14="Moderado"),AND(Y14="Muy Alta",AA14="Mayor")),"Alto",IF(OR(AND(Y14="Muy Baja",AA14="Catastrófico"),AND(Y14="Baja",AA14="Catastrófico"),AND(Y14="Media",AA14="Catastrófico"),AND(Y14="Alta",AA14="Catastrófico"),AND(Y14="Muy Alta",AA14="Catastrófico")),"Extremo","")))),"") | AG14: 46055 | AH14: 46374
A15: 3 | B15: Gestión de TRO Digital | C15: Reputacional | D15: Posible incumplimiento en el reporte de Ley de Transparencia | E15: Debilidad en el cargue de información en la plataforma web de la página institucional. Incumplimiento de la matriz de ley de transparencia para el cargue de información por parte de los encargados de cada proceso No realizar seguimiento a los ítems establecidos dentro de la matriz ITA de la Procuraduría, una función que se debe realizar para validar que la información que se esta cargando en la página web sea la correcta. | F15: Ejecución y Administración de procesos | G15: 40 | H15: =IF(G15<=0,"",IF(G15<=2,"Muy Baja",IF(G15<=24,"Baja",IF(G15<=500,"Media",IF(G15<=5000,"Alta","Muy Alta"))))) -> Media | I15: =IF(H15="","",IF(H15="Muy Baja",0.2,IF(H15="Baja",0.4,IF(H15="Media",0.6,IF(H15="Alta",0.8,IF(H15="Muy Alta",1,)))))) -> 0.6 | J15: El riesgo afecta la imagen de de la entidad con efecto publicitario sostenido a nivel de sector administrativo, nivel departamental o municipal | K15: =IF(NOT(ISERROR(MATCH(J15,'Tabla Impacto'!$B$221:$B$223,0))),'Tabla Impacto'!$F$223&"Por favor no seleccionar los criterios de impacto(Afectación Económica o presupuestal y Pérdida Reputacional)",J15) -> El riesgo afecta la imagen de de la entidad con efecto publicitario sostenido a nivel de sector administrativo, nivel departamental o municipal | L15: =IF(OR(K15='Tabla Impacto'!$C$11,K15='Tabla Impacto'!$D$11),"Leve",IF(OR(K15='Tabla Impacto'!$C$12,K15='Tabla Impacto'!$D$12),"Menor",IF(OR(K15='Tabla Impacto'!$C$13,K15='Tabla Impacto'!$D$13),"Moderado",IF(OR(K15='Tabla Impacto'!$C$14,K15='Tabla Impacto'!$D$14),"Mayor",IF(OR(K15='Tabla Impacto'!$C$15,K15='Tabla Impacto'!$D$15),"Catastrófico",""))))) -> Mayor | M15: =IF(L15="","",IF(L15="Leve",0.2,IF(L15="Menor",0.4,IF(L15="Moderado",0.6,IF(L15="Mayor",0.8,IF(L15="Catastrófico",1,)))))) -> 0.8 | N15: =IF(OR(AND(H15="Muy Baja",L15="Leve"),AND(H15="Muy Baja",L15="Menor"),AND(H15="Baja",L15="Leve")),"Bajo",IF(OR(AND(H15="Muy baja",L15="Moderado"),AND(H15="Baja",L15="Menor"),AND(H15="Baja",L15="Moderado"),AND(H15="Media",L15="Leve"),AND(H15="Media",L15="Menor"),AND(H15="Media",L15="Moderado"),AND(H15="Alta",L15="Leve"),AND(H15="Alta",L15="Menor")),"Moderado",IF(OR(AND(H15="Muy Baja",L15="Mayor"),AND(H15="Baja",L15="Mayor"),AND(H15="Media",L15="Mayor"),AND(H15="Alta",L15="Moderado"),AND(H15="Alta",L15="Mayor"),AND(H15="Muy Alta",L15="Leve"),AND(H15="Muy Alta",L15="Menor"),AND(H15="Muy Alta",L15="Moderado"),AND(H15="Muy Alta",L15="Mayor")),"Alto",IF(OR(AND(H15="Muy Baja",L15="Catastrófico"),AND(H15="Baja",L15="Catastrófico"),AND(H15="Media",L15="Catastrófico"),AND(H15="Alta",L15="Catastrófico"),AND(H15="Muy Alta",L15="Catastrófico")),"Extremo","")))) -> Alto | O15: 1 | P15: La encargada de TRO Digital utiliza una matriz denominada "Ley de Transparencia por Departamentos", la cual relaciona los documentos o requerimientos originados en las diferentes áreas para ser cargados en el botón de transparencia. Esta matriz se envía por correo electrónico de manera trimestral. Este proceso cuenta con el apoyo del área de Planeación. | Q15: =IF(OR(R15="Preventivo",R15="Detectivo"),"Probabilidad",IF(R15="Correctivo","Impacto","")) -> Probabilidad | R15: Preventivo | S15: Manual | T15: =IF(AND(R15="Preventivo",S15="Automático"),"50%",IF(AND(R15="Preventivo",S15="Manual"),"40%",IF(AND(R15="Detectivo",S15="Automático"),"40%",IF(AND(R15="Detectivo",S15="Manual"),"30%",IF(AND(R15="Correctivo",S15="Automático"),"35%",IF(AND(R15="Correctivo",S15="Manual"),"25%","")))))) -> 40% | U15: Documentado | V15: Continua | W15: Con Registro | X15: =IFERROR(IF(Q15="Probabilidad",(I15-(+I15*T15)),IF(Q15="Impacto",I15,"")),"") -> 0.36 | Y15: =IFERROR(IF(X15="","",IF(X15<=0.2,"Muy Baja",IF(X15<=0.4,"Baja",IF(X15<=0.6,"Media",IF(X15<=0.8,"Alta","Muy Alta"))))),"") -> Baja | Z15: =+X15 -> 0.36 | AA15: =IFERROR(IF(AB15="","",IF(AB15<=0.2,"Leve",IF(AB15<=0.4,"Menor",IF(AB15<=0.6,"Moderado",IF(AB15<=0.8,"Mayor","Catastrófico"))))),"") -> Mayor | AB15: =IFERROR(IF(Q15="Impacto",(M15-(+M15*T15)),IF(Q15="Probabilidad",M15,"")),"") -> 0.8 | AC15: =IFERROR(IF(OR(AND(Y15="Muy Baja",AA15="Leve"),AND(Y15="Muy Baja",AA15="Menor"),AND(Y15="Baja",AA15="Leve")),"Bajo",IF(OR(AND(Y15="Muy baja",AA15="Moderado"),AND(Y15="Baja",AA15="Menor"),AND(Y15="Baja",AA15="Moderado"),AND(Y15="Media",AA15="Leve"),AND(Y15="Media",AA15="Menor"),AND(Y15="Media",AA15="Moderado"),AND(Y15="Alta",AA15="Leve"),AND(Y15="Alta",AA15="Menor")),"Moderado",IF(OR(AND(Y15="Muy Baja",AA15="Mayor"),AND(Y15="Baja",AA15="Mayor"),AND(Y15="Media",AA15="Mayor"),AND(Y15="Alta",AA15="Moderado"),AND(Y15="Alta",AA15="Mayor"),AND(Y15="Muy Alta",AA15="Leve"),AND(Y15="Muy Alta",AA15="Menor"),AND(Y15="Muy Alta",AA15="Moderado"),AND(Y15="Muy Alta",AA15="Mayor")),"Alto",IF(OR(AND(Y15="Muy Baja",AA15="Catastrófico"),AND(Y15="Baja",AA15="Catastrófico"),AND(Y15="Media",AA15="Catastrófico"),AND(Y15="Alta",AA15="Catastrófico"),AND(Y15="Muy Alta",AA15="Catastrófico")),"Extremo","")))),"") -> Alto | AD15: Reducir (mitigar) | AE15: Realizar una socialización de la matriz de Ley de Transparencia a los líderes de área para recordarles sus documentos y responsabilidades. | AF15: Jefe de TRO Digital | AG15: 46055 | AH15: 46374
K16: =IF(NOT(ISERROR(MATCH(J16,_xlfn.ANCHORARRAY(E19),0))),#REF!&"Por favor no seleccionar los criterios de impacto",J16) -> 0 | O16: 2 | Q16: =IF(OR(R16="Preventivo",R16="Detectivo"),"Probabilidad",IF(R16="Correctivo","Impacto","")) | T16: =IF(AND(R16="Preventivo",S16="Automático"),"50%",IF(AND(R16="Preventivo",S16="Manual"),"40%",IF(AND(R16="Detectivo",S16="Automático"),"40%",IF(AND(R16="Detectivo",S16="Manual"),"30%",IF(AND(R16="Correctivo",S16="Automático"),"35%",IF(AND(R16="Correctivo",S16="Manual"),"25%","")))))) | X16: =IFERROR(IF(AND(Q15="Probabilidad",Q16="Probabilidad"),(Z15-(+Z15*T16)),IF(Q16="Probabilidad",(I15-(+I15*T16)),IF(Q16="Impacto",Z15,""))),"") | Y16: =IFERROR(IF(X16="","",IF(X16<=0.2,"Muy Baja",IF(X16<=0.4,"Baja",IF(X16<=0.6,"Media",IF(X16<=0.8,"Alta","Muy Alta"))))),"") | Z16: =+X16 | AA16: =IFERROR(IF(AB16="","",IF(AB16<=0.2,"Leve",IF(AB16<=0.4,"Menor",IF(AB16<=0.6,"Moderado",IF(AB16<=0.8,"Mayor","Catastrófico"))))),"") | AB16: =IFERROR(IF(AND(Q15="Impacto",Q16="Impacto"),(AB15-(+AB15*T16)),IF(Q16="Impacto",(M15-(+M15*T16)),IF(Q16="Probabilidad",AB15,""))),"") | AC16: =IFERROR(IF(OR(AND(Y16="Muy Baja",AA16="Leve"),AND(Y16="Muy Baja",AA16="Menor"),AND(Y16="Baja",AA16="Leve")),"Bajo",IF(OR(AND(Y16="Muy baja",AA16="Moderado"),AND(Y16="Baja",AA16="Menor"),AND(Y16="Baja",AA16="Moderado"),AND(Y16="Media",AA16="Leve"),AND(Y16="Media",AA16="Menor"),AND(Y16="Media",AA16="Moderado"),AND(Y16="Alta",AA16="Leve"),AND(Y16="Alta",AA16="Menor")),"Moderado",IF(OR(AND(Y16="Muy Baja",AA16="Mayor"),AND(Y16="Baja",AA16="Mayor"),AND(Y16="Media",AA16="Mayor"),AND(Y16="Alta",AA16="Moderado"),AND(Y16="Alta",AA16="Mayor"),AND(Y16="Muy Alta",AA16="Leve"),AND(Y16="Muy Alta",AA16="Menor"),AND(Y16="Muy Alta",AA16="Moderado"),AND(Y16="Muy Alta",AA16="Mayor")),"Alto",IF(OR(AND(Y16="Muy Baja",AA16="Catastrófico"),AND(Y16="Baja",AA16="Catastrófico"),AND(Y16="Media",AA16="Catastrófico"),AND(Y16="Alta",AA16="Catastrófico"),AND(Y16="Muy Alta",AA16="Catastrófico")),"Extremo","")))),"") | AE16: Realizar trimestralmente un seguimiento al cargue de la información en el botón de transparencia de la página web. | AF16: Jefe de TRO Digital | AG16: 46055 | AH16: 46374
A17: 4 | B17: Gestión de TRO Digital | C17: Reputacional | D17: No realizar seguimiento o monitoreo al desempeño de las plataformas donde se encuentran las cuentas oficiales de Canal TRO Cambio de políticas de seguridad o caída de plataformas que impiden su desarrollo. | E17: Posible falla o intermitencia en las plataformas que se implementan para la generación de contenidos | F17: Fallas Tecnológicas | G17: 40 | H17: =IF(G17<=0,"",IF(G17<=2,"Muy Baja",IF(G17<=24,"Baja",IF(G17<=500,"Media",IF(G17<=5000,"Alta","Muy Alta"))))) -> Media | I17: =IF(H17="","",IF(H17="Muy Baja",0.2,IF(H17="Baja",0.4,IF(H17="Media",0.6,IF(H17="Alta",0.8,IF(H17="Muy Alta",1,)))))) -> 0.6 | J17: El riesgo afecta la imagen de alguna área de la organización | K17: =IF(NOT(ISERROR(MATCH(J17,'Tabla Impacto'!$B$221:$B$223,0))),'Tabla Impacto'!$F$223&"Por favor no seleccionar los criterios de impacto(Afectación Económica o presupuestal y Pérdida Reputacional)",J17) -> El riesgo afecta la imagen de alguna área de la organización | L17: =IF(OR(K17='Tabla Impacto'!$C$11,K17='Tabla Impacto'!$D$11),"Leve",IF(OR(K17='Tabla Impacto'!$C$12,K17='Tabla Impacto'!$D$12),"Menor",IF(OR(K17='Tabla Impacto'!$C$13,K17='Tabla Impacto'!$D$13),"Moderado",IF(OR(K17='Tabla Impacto'!$C$14,K17='Tabla Impacto'!$D$14),"Mayor",IF(OR(K17='Tabla Impacto'!$C$15,K17='Tabla Impacto'!$D$15),"Catastrófico",""))))) -> Leve | M17: =IF(L17="","",IF(L17="Leve",0.2,IF(L17="Menor",0.4,IF(L17="Moderado",0.6,IF(L17="Mayor",0.8,IF(L17="Catastrófico",1,)))))) -> 0.2 | N17: =IF(OR(AND(H17="Muy Baja",L17="Leve"),AND(H17="Muy Baja",L17="Menor"),AND(H17="Baja",L17="Leve")),"Bajo",IF(OR(AND(H17="Muy baja",L17="Moderado"),AND(H17="Baja",L17="Menor"),AND(H17="Baja",L17="Moderado"),AND(H17="Media",L17="Leve"),AND(H17="Media",L17="Menor"),AND(H17="Media",L17="Moderado"),AND(H17="Alta",L17="Leve"),AND(H17="Alta",L17="Menor")),"Moderado",IF(OR(AND(H17="Muy Baja",L17="Mayor"),AND(H17="Baja",L17="Mayor"),AND(H17="Media",L17="Mayor"),AND(H17="Alta",L17="Moderado"),AND(H17="Alta",L17="Mayor"),AND(H17="Muy Alta",L17="Leve"),AND(H17="Muy Alta",L17="Menor"),AND(H17="Muy Alta",L17="Moderado"),AND(H17="Muy Alta",L17="Mayor")),"Alto",IF(OR(AND(H17="Muy Baja",L17="Catastrófico"),AND(H17="Baja",L17="Catastrófico"),AND(H17="Media",L17="Catastrófico"),AND(H17="Alta",L17="Catastrófico"),AND(H17="Muy Alta",L17="Catastrófico")),"Extremo","")))) -> Moderado | O17: 1 | P17: La encargada de TRO Digital realiza una actualización diaria que se evidencia en el registro en la parte inferior de la página web. En caso de presentarse fallas se realiza un protocolo que inicia con el reporte al proveedor de la falla, siendo atendido el soporte en un plazo que va desde 1 a 24 horas, según la anomalía presentada | Q17: =IF(OR(R17="Preventivo",R17="Detectivo"),"Probabilidad",IF(R17="Correctivo","Impacto","")) -> Probabilidad | R17: Preventivo | S17: Manual | T17: =IF(AND(R17="Preventivo",S17="Automático"),"50%",IF(AND(R17="Preventivo",S17="Manual"),"40%",IF(AND(R17="Detectivo",S17="Automático"),"40%",IF(AND(R17="Detectivo",S17="Manual"),"30%",IF(AND(R17="Correctivo",S17="Automático"),"35%",IF(AND(R17="Correctivo",S17="Manual"),"25%","")))))) -> 40% | U17: Documentado | V17: Continua | W17: Con Registro | X17: =IFERROR(IF(Q17="Probabilidad",(I17-(+I17*T17)),IF(Q17="Impacto",I17,"")),"") -> 0.36 | Y17: =IFERROR(IF(X17="","",IF(X17<=0.2,"Muy Baja",IF(X17<=0.4,"Baja",IF(X17<=0.6,"Media",IF(X17<=0.8,"Alta","Muy Alta"))))),"") -> Baja | Z17: =+X17 -> 0.36 | AA17: =IFERROR(IF(AB17="","",IF(AB17<=0.2,"Leve",IF(AB17<=0.4,"Menor",IF(AB17<=0.6,"Moderado",IF(AB17<=0.8,"Mayor","Catastrófico"))))),"") -> Leve | AB17: =IFERROR(IF(Q17="Impacto",(M17-(+M17*T17)),IF(Q17="Probabilidad",M17,"")),"") -> 0.2 | AC17: =IFERROR(IF(OR(AND(Y17="Muy Baja",AA17="Leve"),AND(Y17="Muy Baja",AA17="Menor"),AND(Y17="Baja",AA17="Leve")),"Bajo",IF(OR(AND(Y17="Muy baja",AA17="Moderado"),AND(Y17="Baja",AA17="Menor"),AND(Y17="Baja",AA17="Moderado"),AND(Y17="Media",AA17="Leve"),AND(Y17="Media",AA17="Menor"),AND(Y17="Media",AA17="Moderado"),AND(Y17="Alta",AA17="Leve"),AND(Y17="Alta",AA17="Menor")),"Moderado",IF(OR(AND(Y17="Muy Baja",AA17="Mayor"),AND(Y17="Baja",AA17="Mayor"),AND(Y17="Media",AA17="Mayor"),AND(Y17="Alta",AA17="Moderado"),AND(Y17="Alta",AA17="Mayor"),AND(Y17="Muy Alta",AA17="Leve"),AND(Y17="Muy Alta",AA17="Menor"),AND(Y17="Muy Alta",AA17="Moderado"),AND(Y17="Muy Alta",AA17="Mayor")),"Alto",IF(OR(AND(Y17="Muy Baja",AA17="Catastrófico"),AND(Y17="Baja",AA17="Catastrófico"),AND(Y17="Media",AA17="Catastrófico"),AND(Y17="Alta",AA17="Catastrófico"),AND(Y17="Muy Alta",AA17="Catastrófico")),"Extremo","")))),"") -> Bajo | AD17: Evitar | AE17: Solicitar soporte al proveedor mediante correo electrónico o ticket de soporte. | AF17: Jefe de TRO Digital | AG17: 46055 | AH17: 46374
K18: =IF(NOT(ISERROR(MATCH(J18,_xlfn.ANCHORARRAY(E21),0))),#REF!&"Por favor no seleccionar los criterios de impacto",J18) -> 0 | O18: 2 | Q18: =IF(OR(R18="Preventivo",R18="Detectivo"),"Probabilidad",IF(R18="Correctivo","Impacto","")) | T18: =IF(AND(R18="Preventivo",S18="Automático"),"50%",IF(AND(R18="Preventivo",S18="Manual"),"40%",IF(AND(R18="Detectivo",S18="Automático"),"40%",IF(AND(R18="Detectivo",S18="Manual"),"30%",IF(AND(R18="Correctivo",S18="Automático"),"35%",IF(AND(R18="Correctivo",S18="Manual"),"25%","")))))) | X18: =IFERROR(IF(AND(Q17="Probabilidad",Q18="Probabilidad"),(Z17-(+Z17*T18)),IF(Q18="Probabilidad",(I17-(+I17*T18)),IF(Q18="Impacto",Z17,""))),"") | Y18: =IFERROR(IF(X18="","",IF(X18<=0.2,"Muy Baja",IF(X18<=0.4,"Baja",IF(X18<=0.6,"Media",IF(X18<=0.8,"Alta","Muy Alta"))))),"") | Z18: =+X18 | AA18: =IFERROR(IF(AB18="","",IF(AB18<=0.2,"Leve",IF(AB18<=0.4,"Menor",IF(AB18<=0.6,"Moderado",IF(AB18<=0.8,"Mayor","Catastrófico"))))),"") | AB18: =IFERROR(IF(AND(Q17="Impacto",Q18="Impacto"),(AB17-(+AB17*T18)),IF(Q18="Impacto",(M17-(+M17*T18)),IF(Q18="Probabilidad",AB17,""))),"") | AC18: =IFERROR(IF(OR(AND(Y18="Muy Baja",AA18="Leve"),AND(Y18="Muy Baja",AA18="Menor"),AND(Y18="Baja",AA18="Leve")),"Bajo",IF(OR(AND(Y18="Muy baja",AA18="Moderado"),AND(Y18="Baja",AA18="Menor"),AND(Y18="Baja",AA18="Moderado"),AND(Y18="Media",AA18="Leve"),AND(Y18="Media",AA18="Menor"),AND(Y18="Media",AA18="Moderado"),AND(Y18="Alta",AA18="Leve"),AND(Y18="Alta",AA18="Menor")),"Moderado",IF(OR(AND(Y18="Muy Baja",AA18="Mayor"),AND(Y18="Baja",AA18="Mayor"),AND(Y18="Media",AA18="Mayor"),AND(Y18="Alta",AA18="Moderado"),AND(Y18="Alta",AA18="Mayor"),AND(Y18="Muy Alta",AA18="Leve"),AND(Y18="Muy Alta",AA18="Menor"),AND(Y18="Muy Alta",AA18="Moderado"),AND(Y18="Muy Alta",AA18="Mayor")),"Alto",IF(OR(AND(Y18="Muy Baja",AA18="Catastrófico"),AND(Y18="Baja",AA18="Catastrófico"),AND(Y18="Media",AA18="Catastrófico"),AND(Y18="Alta",AA18="Catastrófico"),AND(Y18="Muy Alta",AA18="Catastrófico")),"Extremo","")))),"") | AE18: Realizar el reporte de la falla al área competente y dar seguimiento hasta su tratamiento y resolución | AF18: Jefe de TRO Digital | AG18: 46055 | AH18: 46374
A19: 5 | B19: Gestión Comunicaciones | C19: Económico y Reputacional | D19: Incumplimiento de las estrategias pactadas en el PEI Desconocimientos de los procedimientos realizados dentro del área de Comunicaciones y Mercadeo por parte de los colaboradores que la integran. Desconocer la percepción de la imagen de la Televisión Regional del Oriente por las partes interesadas | E19: Debilidad en el posicionamiento de imagen debido a la posible percepción desfavorable del público externo sobre las actividades y estrategias implementadas en el Canal TRO. | F19: Fraude Interno | G19: 60 | H19: =IF(G19<=0,"",IF(G19<=2,"Muy Baja",IF(G19<=24,"Baja",IF(G19<=500,"Media",IF(G19<=5000,"Alta","Muy Alta"))))) -> Media | I19: =IF(H19="","",IF(H19="Muy Baja",0.2,IF(H19="Baja",0.4,IF(H19="Media",0.6,IF(H19="Alta",0.8,IF(H19="Muy Alta",1,)))))) -> 0.6 | J19: El riesgo afecta la imagen de la entidad con algunos usuarios de relevancia frente al logro de los objetivos | K19: =IF(NOT(ISERROR(MATCH(J19,'Tabla Impacto'!$B$221:$B$223,0))),'Tabla Impacto'!$F$223&"Por favor no seleccionar los criterios de impacto(Afectación Económica o presupuestal y Pérdida Reputacional)",J19) -> El riesgo afecta la imagen de la entidad con algunos usuarios de relevancia frente al logro de los objetivos | L19: =IF(OR(K19='Tabla Impacto'!$C$11,K19='Tabla Impacto'!$D$11),"Leve",IF(OR(K19='Tabla Impacto'!$C$12,K19='Tabla Impacto'!$D$12),"Menor",IF(OR(K19='Tabla Impacto'!$C$13,K19='Tabla Impacto'!$D$13),"Moderado",IF(OR(K19='Tabla Impacto'!$C$14,K19='Tabla Impacto'!$D$14),"Mayor",IF(OR(K19='Tabla Impacto'!$C$15,K19='Tabla Impacto'!$D$15),"Catastrófico",""))))) -> Moderado | M19: =IF(L19="","",IF(L19="Leve",0.2,IF(L19="Menor",0.4,IF(L19="Moderado",0.6,IF(L19="Mayor",0.8,IF(L19="Catastrófico",1,)))))) -> 0.6 | N19: =IF(OR(AND(H19="Muy Baja",L19="Leve"),AND(H19="Muy Baja",L19="Menor"),AND(H19="Baja",L19="Leve")),"Bajo",IF(OR(AND(H19="Muy baja",L19="Moderado"),AND(H19="Baja",L19="Menor"),AND(H19="Baja",L19="Moderado"),AND(H19="Media",L19="Leve"),AND(H19="Media",L19="Menor"),AND(H19="Media",L19="Moderado"),AND(H19="Alta",L19="Leve"),AND(H19="Alta",L19="Menor")),"Moderado",IF(OR(AND(H19="Muy Baja",L19="Mayor"),AND(H19="Baja",L19="Mayor"),AND(H19="Media",L19="Mayor"),AND(H19="Alta",L19="Moderado"),AND(H19="Alta",L19="Mayor"),AND(H19="Muy Alta",L19="Leve"),AND(H19="Muy Alta",L19="Menor"),AND(H19="Muy Alta",L19="Moderado"),AND(H19="Muy Alta",L19="Mayor")),"Alto",IF(OR(AND(H19="Muy Baja",L19="Catastrófico"),AND(H19="Baja",L19="Catastrófico"),AND(H19="Media",L19="Catastrófico"),AND(H19="Alta",L19="Catastrófico"),AND(H19="Muy Alta",L19="Catastrófico")),"Extremo","")))) -> Moderado | O19: 1 | P19: El encargado de Comunicaciones y su equipo ejecutan las estrategias establecidas en el Plan Estratégico Institucional (PEI), elaborando informes trimestrales sobre el avance obtenido en cada una de las actividades ejecutadas. | Q19: =IF(OR(R19="Preventivo",R19="Detectivo"),"Probabilidad",IF(R19="Correctivo","Impacto","")) -> Probabilidad | R19: Preventivo | S19: Manual | T19: =IF(AND(R19="Preventivo",S19="Automático"),"50%",IF(AND(R19="Preventivo",S19="Manual"),"40%",IF(AND(R19="Detectivo",S19="Automático"),"40%",IF(AND(R19="Detectivo",S19="Manual"),"30%",IF(AND(R19="Correctivo",S19="Automático"),"35%",IF(AND(R19="Correctivo",S19="Manual"),"25%","")))))) -> 40% | U19: Documentado | V19: Continua | W19: Con Registro | X19: =IFERROR(IF(Q19="Probabilidad",(I19-(+I19*T19)),IF(Q19="Impacto",I19,"")),"") -> 0.36 | Y19: =IFERROR(IF(X19="","",IF(X19<=0.2,"Muy Baja",IF(X19<=0.4,"Baja",IF(X19<=0.6,"Media",IF(X19<=0.8,"Alta","Muy Alta"))))),"") -> Baja | Z19: =+X19 -> 0.36 | AA19: =IFERROR(IF(AB19="","",IF(AB19<=0.2,"Leve",IF(AB19<=0.4,"Menor",IF(AB19<=0.6,"Moderado",IF(AB19<=0.8,"Mayor","Catastrófico"))))),"") -> Moderado | AB19: =IFERROR(IF(Q19="Impacto",(M19-(+M19*T19)),IF(Q19="Probabilidad",M19,"")),"") -> 0.6 | AC19: =IFERROR(IF(OR(AND(Y19="Muy Baja",AA19="Leve"),AND(Y19="Muy Baja",AA19="Menor"),AND(Y19="Baja",AA19="Leve")),"Bajo",IF(OR(AND(Y19="Muy baja",AA19="Moderado"),AND(Y19="Baja",AA19="Menor"),AND(Y19="Baja",AA19="Moderado"),AND(Y19="Media",AA19="Leve"),AND(Y19="Media",AA19="Menor"),AND(Y19="Media",AA19="Moderado"),AND(Y19="Alta",AA19="Leve"),AND(Y19="Alta",AA19="Menor")),"Moderado",IF(OR(AND(Y19="Muy Baja",AA19="Mayor"),AND(Y19="Baja",AA19="Mayor"),AND(Y19="Media",AA19="Mayor"),AND(Y19="Alta",AA19="Moderado"),AND(Y19="Alta",AA19="Mayor"),AND(Y19="Muy Alta",AA19="Leve"),AND(Y19="Muy Alta",AA19="Menor"),AND(Y19="Muy Alta",AA19="Moderado"),AND(Y19="Muy Alta",AA19="Mayor")),"Alto",IF(OR(AND(Y19="Muy Baja",AA19="Catastrófico"),AND(Y19="Baja",AA19="Catastrófico"),AND(Y19="Media",AA19="Catastrófico"),AND(Y19="Alta",AA19="Catastrófico"),AND(Y19="Muy Alta",AA19="Catastrófico")),"Extremo","")))),"") -> Moderado | AD19: Evitar | AE19: Realizar trimestralmente un informe de seguimiento del PEI para monitorear y evaluar el avance de las estrategias de comunicaciones implementadas. | AF19: Jefe de Comunicaciones | AG19: 46055 | AH19: 46374
K20: =IF(NOT(ISERROR(MATCH(J20,_xlfn.ANCHORARRAY(E23),0))),I25&"Por favor no seleccionar los criterios de impacto",J20) -> 0 | O20: 2 | P20: El encargado de Comunicaciones y su equipo actualizan y revisan la documentación de la Gestión de Comunicaciones, como los procedimientos y políticas, de manera anual o según sea necesario. | Q20: =IF(OR(R20="Preventivo",R20="Detectivo"),"Probabilidad",IF(R20="Correctivo","Impacto","")) -> Probabilidad | R20: Preventivo | S20: Manual | T20: =IF(AND(R20="Preventivo",S20="Automático"),"50%",IF(AND(R20="Preventivo",S20="Manual"),"40%",IF(AND(R20="Detectivo",S20="Automático"),"40%",IF(AND(R20="Detectivo",S20="Manual"),"30%",IF(AND(R20="Correctivo",S20="Automático"),"35%",IF(AND(R20="Correctivo",S20="Manual"),"25%","")))))) -> 40% | U20: Documentado | V20: Continua | W20: Con Registro | X20: =IFERROR(IF(Q20="Probabilidad",(I20-(+I20*T20)),IF(Q20="Impacto",I20,"")),"") -> 0 | Y20: =IFERROR(IF(X20="","",IF(X20<=0.2,"Muy Baja",IF(X20<=0.4,"Baja",IF(X20<=0.6,"Media",IF(X20<=0.8,"Alta","Muy Alta"))))),"") -> Muy Baja | Z20: =+X20 -> 0 | AA20: =IFERROR(IF(AB20="","",IF(AB20<=0.2,"Leve",IF(AB20<=0.4,"Menor",IF(AB20<=0.6,"Moderado",IF(AB20<=0.8,"Mayor","Catastrófico"))))),"") -> Leve | AB20: =IFERROR(IF(Q20="Impacto",(M20-(+M20*T20)),IF(Q20="Probabilidad",M20,"")),"") -> 0 | AC20: =IFERROR(IF(OR(AND(Y20="Muy Baja",AA20="Leve"),AND(Y20="Muy Baja",AA20="Menor"),AND(Y20="Baja",AA20="Leve")),"Bajo",IF(OR(AND(Y20="Muy baja",AA20="Moderado"),AND(Y20="Baja",AA20="Menor"),AND(Y20="Baja",AA20="Moderado"),AND(Y20="Media",AA20="Leve"),AND(Y20="Media",AA20="Menor"),AND(Y20="Media",AA20="Moderado"),AND(Y20="Alta",AA20="Leve"),AND(Y20="Alta",AA20="Menor")),"Moderado",IF(OR(AND(Y20="Muy Baja",AA20="Mayor"),AND(Y20="Baja",AA20="Mayor"),AND(Y20="Media",AA20="Mayor"),AND(Y20="Alta",AA20="Moderado"),AND(Y20="Alta",AA20="Mayor"),AND(Y20="Muy Alta",AA20="Leve"),AND(Y20="Muy Alta",AA20="Menor"),AND(Y20="Muy Alta",AA20="Moderado"),AND(Y20="Muy Alta",AA20="Mayor")),"Alto",IF(OR(AND(Y20="Muy Baja",AA20="Catastrófico"),AND(Y20="Baja",AA20="Catastrófico"),AND(Y20="Media",AA20="Catastrófico"),AND(Y20="Alta",AA20="Catastrófico"),AND(Y20="Muy Alta",AA20="Catastrófico")),"Extremo","")))),"") -> Bajo | AD20: Evitar | AE20: Actualizar y revisar la documentación de la Gestión de Comunicaciones anualmente o según sea necesario, asegurando su pertinencia y eficacia. | AF20: Jefe de Comunicaciones | AG20: 46055 | AH20: 46374
A21: 6 | B21: Gestión Comunicaciones | C21: Económico y Reputacional | D21: Desconocimiento de los tiempos de respuesta de Ley por parte de las áreas involucradas en el proceso PQRSD Falta de un software para la asignación de las PQRSD con el fin de realizar trazabilidad. | E21: Posibilidad de responder extemporáneamente a las PQRSD (Peticiones, Quejas, Reclamos y Sugerencias) que ingresen al Canal TRO. | F21: Fraude Interno | G21: 5000 | H21: =IF(G21<=0,"",IF(G21<=2,"Muy Baja",IF(G21<=24,"Baja",IF(G21<=500,"Media",IF(G21<=5000,"Alta","Muy Alta"))))) -> Alta | I21: =IF(H21="","",IF(H21="Muy Baja",0.2,IF(H21="Baja",0.4,IF(H21="Media",0.6,IF(H21="Alta",0.8,IF(H21="Muy Alta",1,)))))) -> 0.8 | J21: Entre 10 y 50 SMLMV | K21: =IF(NOT(ISERROR(MATCH(J21,'Tabla Impacto'!$B$221:$B$223,0))),'Tabla Impacto'!$F$223&"Por favor no seleccionar los criterios de impacto(Afectación Económica o presupuestal y Pérdida Reputacional)",J21) -> Entre 10 y 50 SMLMV | L21: =IF(OR(K21='Tabla Impacto'!$C$11,K21='Tabla Impacto'!$D$11),"Leve",IF(OR(K21='Tabla Impacto'!$C$12,K21='Tabla Impacto'!$D$12),"Menor",IF(OR(K21='Tabla Impacto'!$C$13,K21='Tabla Impacto'!$D$13),"Moderado",IF(OR(K21='Tabla Impacto'!$C$14,K21='Tabla Impacto'!$D$14),"Mayor",IF(OR(K21='Tabla Impacto'!$C$15,K21='Tabla Impacto'!$D$15),"Catastrófico",""))))) -> Menor | M21: =IF(L21="","",IF(L21="Leve",0.2,IF(L21="Menor",0.4,IF(L21="Moderado",0.6,IF(L21="Mayor",0.8,IF(L21="Catastrófico",1,)))))) -> 0.4 | N21: =IF(OR(AND(H21="Muy Baja",L21="Leve"),AND(H21="Muy Baja",L21="Menor"),AND(H21="Baja",L21="Leve")),"Bajo",IF(OR(AND(H21="Muy baja",L21="Moderado"),AND(H21="Baja",L21="Menor"),AND(H21="Baja",L21="Moderado"),AND(H21="Media",L21="Leve"),AND(H21="Media",L21="Menor"),AND(H21="Media",L21="Moderado"),AND(H21="Alta",L21="Leve"),AND(H21="Alta",L21="Menor")),"Moderado",IF(OR(AND(H21="Muy Baja",L21="Mayor"),AND(H21="Baja",L21="Mayor"),AND(H21="Media",L21="Mayor"),AND(H21="Alta",L21="Moderado"),AND(H21="Alta",L21="Mayor"),AND(H21="Muy Alta",L21="Leve"),AND(H21="Muy Alta",L21="Menor"),AND(H21="Muy Alta",L21="Moderado"),AND(H21="Muy Alta",L21="Mayor")),"Alto",IF(OR(AND(H21="Muy Baja",L21="Catastrófico"),AND(H21="Baja",L21="Catastrófico"),AND(H21="Media",L21="Catastrófico"),AND(H21="Alta",L21="Catastrófico"),AND(H21="Muy Alta",L21="Catastrófico")),"Extremo","")))) -> Moderado | O21: 1 | P21: La Alta Gerencia realiza la asignación de las PQRSD a las áreas responsables a través del software institucional, el cual genera notificaciones automáticas a los colaboradores designados. El encargado de PQRSD realiza seguimiento al cumplimiento de los términos de respuesta mediante el monitoreo mensual del formato E-GC-P02-F03 y la verificación de la trazabilidad en el sistema. En caso de detectar inconsistencias o incumplimientos en la gestión de las solicitudes, debe informar inmediatamente al Secretario General para tomar las medidas correctivas pertinentes. | Q21: =IF(OR(R21="Preventivo",R21="Detectivo"),"Probabilidad",IF(R21="Correctivo","Impacto","")) -> Probabilidad | R21: Preventivo | S21: Manual | T21: =IF(AND(R21="Preventivo",S21="Automático"),"50%",IF(AND(R21="Preventivo",S21="Manual"),"40%",IF(AND(R21="Detectivo",S21="Automático"),"40%",IF(AND(R21="Detectivo",S21="Manual"),"30%",IF(AND(R21="Correctivo",S21="Automático"),"35%",IF(AND(R21="Correctivo",S21="Manual"),"25%","")))))) -> 40% | U21: Documentado | V21: Continua | W21: Con Registro | X21: =IFERROR(IF(Q21="Probabilidad",(I21-(+I21*T21)),IF(Q21="Impacto",I21,"")),"") -> 0.48 | Y21: =IFERROR(IF(X21="","",IF(X21<=0.2,"Muy Baja",IF(X21<=0.4,"Baja",IF(X21<=0.6,"Media",IF(X21<=0.8,"Alta","Muy Alta"))))),"") -> Media | Z21: =+X21 -> 0.48 | AA21: =IFERROR(IF(AB21="","",IF(AB21<=0.2,"Leve",IF(AB21<=0.4,"Menor",IF(AB21<=0.6,"Moderado",IF(AB21<=0.8,"Mayor","Catastrófico"))))),"") -> Menor | AB21: =IFERROR(IF(Q21="Impacto",(M21-(+M21*T21)),IF(Q21="Probabilidad",M21,"")),"") -> 0.4 | AC21: =IFERROR(IF(OR(AND(Y21="Muy Baja",AA21="Leve"),AND(Y21="Muy Baja",AA21="Menor"),AND(Y21="Baja",AA21="Leve")),"Bajo",IF(OR(AND(Y21="Muy baja",AA21="Moderado"),AND(Y21="Baja",AA21="Menor"),AND(Y21="Baja",AA21="Moderado"),AND(Y21="Media",AA21="Leve"),AND(Y21="Media",AA21="Menor"),AND(Y21="Media",AA21="Moderado"),AND(Y21="Alta",AA21="Leve"),AND(Y21="Alta",AA21="Menor")),"Moderado",IF(OR(AND(Y21="Muy Baja",AA21="Mayor"),AND(Y21="Baja",AA21="Mayor"),AND(Y21="Media",AA21="Mayor"),AND(Y21="Alta",AA21="Moderado"),AND(Y21="Alta",AA21="Mayor"),AND(Y21="Muy Alta",AA21="Leve"),AND(Y21="Muy Alta",AA21="Menor"),AND(Y21="Muy Alta",AA21="Moderado"),AND(Y21="Muy Alta",AA21="Mayor")),"Alto",IF(OR(AND(Y21="Muy Baja",AA21="Catastrófico"),AND(Y21="Baja",AA21="Catastrófico"),AND(Y21="Media",AA21="Catastrófico"),AND(Y21="Alta",AA21="Catastrófico"),AND(Y21="Muy Alta",AA21="Catastrófico")),"Extremo","")))),"") -> Moderado | AD21: Evitar | AE21: Realizar seguimiento semanal a la gestión de las PQRSD en el software institucional, verificando el estado de cada solicitud asignada y registrando observaciones en el formato E-GC-P02-F03. Ante cualquier inconsistencia o incumplimiento detectado, la encargada de PQRSD deberá informar de inmediato al Secretario General para garantizar la trazabilidad y oportunidad en las respuestas | AF21: Jefe de Comunicaciones | AG21: 46055 | AH21: 46374
K22: =IF(NOT(ISERROR(MATCH(J22,_xlfn.ANCHORARRAY(E26),0))),#REF!&"Por favor no seleccionar los criterios de impacto",J22) -> 0 | O22: 2 | Q22: =IF(OR(R22="Preventivo",R22="Detectivo"),"Probabilidad",IF(R22="Correctivo","Impacto","")) | T22: =IF(AND(R22="Preventivo",S22="Automático"),"50%",IF(AND(R22="Preventivo",S22="Manual"),"40%",IF(AND(R22="Detectivo",S22="Automático"),"40%",IF(AND(R22="Detectivo",S22="Manual"),"30%",IF(AND(R22="Correctivo",S22="Automático"),"35%",IF(AND(R22="Correctivo",S22="Manual"),"25%","")))))) | X22: =IFERROR(IF(AND(Q21="Probabilidad",Q22="Probabilidad"),(Z21-(+Z21*T22)),IF(Q22="Probabilidad",(I21-(+I21*T22)),IF(Q22="Impacto",Z21,""))),"") | Y22: =IFERROR(IF(X22="","",IF(X22<=0.2,"Muy Baja",IF(X22<=0.4,"Baja",IF(X22<=0.6,"Media",IF(X22<=0.8,"Alta","Muy Alta"))))),"") | Z22: =+X22 | AA22: =IFERROR(IF(AB22="","",IF(AB22<=0.2,"Leve",IF(AB22<=0.4,"Menor",IF(AB22<=0.6,"Moderado",IF(AB22<=0.8,"Mayor","Catastrófico"))))),"") | AB22: =IFERROR(IF(AND(Q21="Impacto",Q22="Impacto"),(AB21-(+AB21*T22)),IF(Q22="Impacto",(M21-(+M21*T22)),IF(Q22="Probabilidad",AB21,""))),"") | AC22: =IFERROR(IF(OR(AND(Y22="Muy Baja",AA22="Leve"),AND(Y22="Muy Baja",AA22="Menor"),AND(Y22="Baja",AA22="Leve")),"Bajo",IF(OR(AND(Y22="Muy baja",AA22="Moderado"),AND(Y22="Baja",AA22="Menor"),AND(Y22="Baja",AA22="Moderado"),AND(Y22="Media",AA22="Leve"),AND(Y22="Media",AA22="Menor"),AND(Y22="Media",AA22="Moderado"),AND(Y22="Alta",AA22="Leve"),AND(Y22="Alta",AA22="Menor")),"Moderado",IF(OR(AND(Y22="Muy Baja",AA22="Mayor"),AND(Y22="Baja",AA22="Mayor"),AND(Y22="Media",AA22="Mayor"),AND(Y22="Alta",AA22="Moderado"),AND(Y22="Alta",AA22="Mayor"),AND(Y22="Muy Alta",AA22="Leve"),AND(Y22="Muy Alta",AA22="Menor"),AND(Y22="Muy Alta",AA22="Moderado"),AND(Y22="Muy Alta",AA22="Mayor")),"Alto",IF(OR(AND(Y22="Muy Baja",AA22="Catastrófico"),AND(Y22="Baja",AA22="Catastrófico"),AND(Y22="Media",AA22="Catastrófico"),AND(Y22="Alta",AA22="Catastrófico"),AND(Y22="Muy Alta",AA22="Catastrófico")),"Extremo","")))),"") | AG22: 46055 | AH22: 46374
